BEGIN:VCALENDAR
VERSION:2.0
PRODID:-//wp-events-plugin.com//7.2.3.1//EN
TZID:Europe/Warsaw
X-WR-TIMEZONE:Europe/Warsaw
BEGIN:VEVENT
UID:43034@night4u.pl
DTSTART;TZID=Europe/Warsaw:20200129T200000
DTEND;TZID=Europe/Warsaw:20200129T223000
DTSTAMP:20200129T170814Z
URL:https://night4u.pl/wydarzenia/%cf%9f-warszawska-orkiestra-sentymentaln
 a-w-niebie-%cf%9f/
SUMMARY:Ϟ Warszawska Orkiestra Sentymentalna w Niebie Ϟ
DESCRIPTION:Niebo znowu zadrży!\n\nW miejscu przedwojennego centrum rozryw
 ki Warszawy- "pasażu Italia"\, znów\, jak sto lat temu\, zabrzmią przeb
 oje z filmów\, rewii i kabaretów\, a do tańca zagra prawdopodobnie najl
 epsza orkiestra w mieście.\n\nW końcu wchodzimy w szalone lata dwudziest
 e!\n\nCoś nam mówi\, że tamten kolorowy\, przedwojenny świat jest  naj
 lepszym punktem odniesienia dla współczesnej\, pulsującej życiem\, nie
 nasyconej Warszawy. Dlatego wracamy do tamtych czasów i gramy tamte melod
 ie na swój sposób. Chodźcie tańczyć\, słuchać czy kontestować - al
 e chodźcie. Ta muzyka jest dla was.\n\nKto był ostatnio\, wie\, że był
 o jak w Niebie!\n\nBilety: 35 zł w przedsprzedaży / 45 zł w dniu koncer
 tu\nonline: \nhttp://bit.ly/2RdJP2B\nhttps://empikbilety.pl/wydarzenie/war
 szawska-orkiestra-sentymentalna-w-niebie/styczen-2020\nhttps://going.pl/wa
 rszawska-orkiestra-sentymentalna\noraz stacjonarnie w Empikach\n... i na m
 iejscu w dniu koncertu (od 19.00)\n\nRezerwacje stolików i miejsc siedzą
 cych pod mailem: rezerwacje@klubniebo.pl
ATTACH;FMTTYPE=image/jpeg:https://night4u.pl/wp-content/uploads/2020/01/13
 7153_image_83360737_1673659536122748_6820859600254795776_o.jpg
CATEGORIES:mazowieckie
LOCATION:NIEBO\, ul. Nowy Świat 21\, Warsaw\, 00-029\, Poland
GEO:52.23238;21.018267
X-APPLE-STRUCTURED-LOCATION;VALUE=URI;X-ADDRESS=ul. Nowy Świat 21\, Warsaw
 \, 00-029\, Poland;X-APPLE-RADIUS=100;X-TITLE=NIEBO:geo:52.23238,21.018267
END:VEVENT
BEGIN:VTIMEZONE
TZID:Europe/Warsaw
X-LIC-LOCATION:Europe/Warsaw
BEGIN:STANDARD
DTSTART:20191027T020000
TZOFFSETFROM:+0200
TZOFFSETTO:+0100
TZNAME:CET
END:STANDARD
END:VTIMEZONE
END:VCALENDAR