BEGIN:VCALENDAR
VERSION:2.0
PRODID:-//wp-events-plugin.com//7.2.3.1//EN
TZID:Europe/Warsaw
X-WR-TIMEZONE:Europe/Warsaw
BEGIN:VEVENT
UID:41708@night4u.pl
DTSTART;TZID=Europe/Warsaw:20210929T190000
DTEND;TZID=Europe/Warsaw:20210929T220000
DTSTAMP:20210908T144810Z
URL:https://night4u.pl/wydarzenia/%d0%b1%d0%be%d1%80%d0%b8%d1%81-%d0%b3%d1
 %80%d0%b5%d0%b1%d0%b5%d0%bd%d1%89%d0%b8%d0%ba%d0%be%d0%b2-%d0%b8-%d0%b3%d1
 %80%d1%83%d0%bf%d0%bf%d0%b0-%d0%b0%d0%ba%d0%b2%d0%b0%d1%80%d0%b8%d1%83%d0%
 bc-%d0%b2/
SUMMARY:Борис Гребенщиков и группа Аквариум 
 в Варшаве!
DESCRIPTION:Билеты: https://pankoncert.pl/boris-grebenshchikov-akwari
 um-warszawa/\n\n29 .09.2021 в Варшаве  впервые в исто
 рии выступит гуру русского рок–н-ролла 
 Борис Гребенщиков (БГ) и легендарная гру
 ппа «АКВАРИУМ»!\n\nПервый и Единственный 
 концерт в Польше состоится 29.09.2021 на сцен
 е клуба СТОДОЛА (klub Stodoła)!\n\nТрудно найти 
 любителя музыки\, который не слышал бы о 
 группе «Аквариум»\, не знал бы ее знамени
 того лидера — Бориса Гребенщикова\, и не 
 мог бы напеть хотя бы одну его песню.\n\nНы
 нешний «Аквариум» — это коллектив\, дающ
 ий десятки концертов в год\, исполняющий 
 и записывающий свою волшебную музыку с л
 учшими музыкантами мирового уровня. Пос
 тоянно меняясь\, и при этом оставаясь сам
 им собой\, Борис Гребенщиков создал уник
 альное явление культуры\, существующее в
 не времени и пространства. Музыка «Аквар
 иума» – это бесконечный поиск ответов\, 
 на которые и целой жизни будет мало.\n\nБо
 рис Гребенщиков как один\, так и в состав
 е «Аквариума» играет музыку уже больше 48
  лет. Он записал десяток самиздатских ал
 ьбомов и ещё два с лишним десятка официа
 льных\, когда слово «рок» перестало быть 
 запрещённым. Гребенщиков и сегодня игра
 ет рок\, но не только рок. Именно БГ первы
 м из русских смог адаптировать всю эстет
 ику современной ему западной музыкально
 й культуры к особенностям родного языка\
 , и он продолжает заниматься именно этим 
 – показывать\, как можно быть русским\, и 
 петь не только петербургские романсы\, н
 о и ямайское реггей\, и африканский сукус
 с\, американский фолк и ирландские балла
 ды. Уже почти 48 лет мудрый и невозмутимый
  Борис Гребенщиков выходит на сцену и пр
 иветствует слушателей\, многие из которы
 х приходят на концерты вместе со своими 
 подросшими детьми.\n\nДля своих поклонник
 ов Борис Борисович является намного бол
 ьшим явлением\, чем «просто» кумиром. Его
  считают духовным наставником и предвод
 ителем. Культовая фигура русской культу
 ры\, отец-основатель советского рока\, ид
 еолог молодёжи 70-90-х — сам Гребенщиков б
 ез восторга относится к этим заслуженны
 м титулам\, предпочитая называть себя «ч
 еловеком\, делающим музыку».\n\nФилософ\, к
 омпозитор и поэт Борис Гребенщиков\, тво
 рчество которого всегда было и будет акт
 уальным\, придерживается в музыке особог
 о и непохожего ни на кого стиля. Всего на 
 счету Гребенщикова больше 58 альбомов и о
 коло 1000 песен. Бориса Гребенщикова знают
  не только в России и странах СНГ\, но и да
 леко за рубежом – в Великобритании\, Фра
 нции\, США\, Канаде\, Германии\, Ирландии\, 
 Индии\, на Кипре\, в Израиле\, Финляндии\, Н
 орвегии и в других странах.\n\nОдной из св
 оих любимых стран Борис Гребенщиков наз
 ывает Польшу\, а Варшаву – близким его се
 рдцу городом! \n\nДля Бориса Гребенщикова 
 очень трепетна возможность выступить в 
 Польше! И не только\, потому что группа ни
 когда не выступала в этой замечательной 
 стране\, а еще\, и потому что\, именно с Пол
 ьшей\, с польскими рок-музыкантами-друзь
 ями связаны важные вехи в развитии Ленин
 градского Рок-клуба\, представителем кот
 орого был «Аквариум»!\n\nЖелезный занавес
 \, окружающий тогдашний Советский Союз\, 
 пробивали именно музыканты из соседней 
 Польши\, и именно они были образцом более
  качественной\, более западной музыки! Не
  секрет\, что именно через польских заезж
 их музыкантов российские музыканты могл
 и купить более-менее приличные музыкаль
 ные инструменты и аппаратуру.\n\nПитерски
 е музыканты с теплом вспоминают группы: 
 «Скальды»("Skaldowie")\, «Будку суфлёра» ("Budka Su
 flera")\, «Лэди Панк» ("Lady Pank")\, «Червонэ гита
 ры» ("Czerwone gitary")\, «Белизну» ("Bielizna”)\, Мары
 лю Радович (Maryla Rodowicz)\, и\, светлой памяти\,
  Чеслава Немена (Czesław Niemen)!\n\nКак всегда\, 
 предстоящий концерт окружен ореолом тай
 ны! Можно лишь отметить\, что на сцену с Б
 Г выйдут\, как многие известные и любимые
  музыканты (т.е. как российские\, так и зап
 адные)\, так и музыканты\, появления котор
 ых никто даже не ожидает!\n\n29.09.2021 легенда
 рный Борис Гребенщиков и «Аквариум» оты
 грают в Варшаве  большую концертную прог
 рамму «Раста Баста»\, в которой прозвучи
 т множество песен — от новейших и до тех\
 , с которых когда-то все начиналось.\n\nМы 
 все с радостью приглашаем Вас на этот не
 повторимый и завораживающий концерт кра
 сивой музыки!!! Приходите 29.09.2021 в клуб Ст
 одола\, чтобы насладиться прекрасными пе
 снями Бориса Гребенщикова и окунуться в 
 мир качественного живого русского рока!!
 !\n\nБилеты на Единственный концерт в Поль
 ше Бориса Гребенщикова и легендарной гр
 уппы «АКВАРИУМ» 29.09.2021 19.00 продаются в ка
 ссах варшавской Cтодолы (klub Stodoła) и билет
 ных системах on-line www.pankoncert.pl\, www.ebilet.pl\, и www
 .stodola.pl.\n\nДрузья!!! Любители красивой музы
 ки!!! И просто желающие услышать что-то но
 венькое!!! Любители рока!!! Эстеты!!! А такж
 е влюблённые в русское творчество!!! \n\nМы
  Всех Вас ждём в клубе Стодола на концерт
 е БОРИСА ГРЕБЕНЩИКОВА и группы «АКВАРИУ
 М»!!!\n\nЛюбая информация по концерту\, пре
 дложения по сотрудничеству\, групповые з
 аказы info@pankoncert.pl
ATTACH;FMTTYPE=image/jpeg:https://night4u.pl/wp-content/uploads/2021/04/13
 0992_image_161055942_2740083249588690_6708419206062885414_n.jpg
CATEGORIES:mazowieckie
LOCATION:klub Stodoła\, \, 
X-APPLE-STRUCTURED-LOCATION;VALUE=URI;X-ADDRESS=\, ;X-APPLE-RADIUS=100;X-TI
 TLE=klub Stodoła:geo:0,0
END:VEVENT
BEGIN:VTIMEZONE
TZID:Europe/Warsaw
X-LIC-LOCATION:Europe/Warsaw
BEGIN:DAYLIGHT
DTSTART:20210328T030000
TZOFFSETFROM:+0100
TZOFFSETTO:+0200
TZNAME:CEST
END:DAYLIGHT
END:VTIMEZONE
END:VCALENDAR