BEGIN:VCALENDAR
VERSION:2.0
PRODID:-//wp-events-plugin.com//7.2.3.1//EN
TZID:Europe/Warsaw
X-WR-TIMEZONE:Europe/Warsaw
BEGIN:VEVENT
UID:9204@night4u.pl
DTSTART;TZID=Europe/Warsaw:20190309T220000
DTEND;TZID=Europe/Warsaw:20190310T040000
DTSTAMP:20190307T234541Z
URL:https://night4u.pl/wydarzenia/%d0%b2%d1%80%d0%be%d1%86%d0%bb%d0%b0%d0%
 b2%d1%81%d0%ba%d0%b8%d0%b9-%d0%b4%d0%b2%d0%b8%d0%b6/
SUMMARY:Вроцлавский Движ.
DESCRIPTION:Друзья\, представляем вам Вроцлавс
 кий Движ. \n\nБольше чем просто туса\, движ 
 на котором нет никаких правил. Угар\, отр
 ыв\, рейв... можно называть как угодно\, но 
 смысл остается один - достигнуть максима
 льного пика эмоций. \n\nДостаём олимпийки\
 , надеваем удобные кроссы\, гуглим за слэ
 м и оставляем в нём все свои проблемы.\n\n? 
 Добро пожаловать на Вроцлавский Движ ?\n\n
 Суббота. 9 марта One Love Wrocław. Dj Nalim\nНачало 22:
 00. Билет 15zł.
ATTACH;FMTTYPE=image/jpeg:https://night4u.pl/wp-content/uploads/2019/03/24
 963_image_53366859_2102100586491714_5084710884362682368_o.jpg
CATEGORIES:dolnośląskie
LOCATION:One Love Wrocław\, Ofiar Oświęcimskich 36\, Wroclaw\, 50-059\, 
 Poland
GEO:51.108;17.03431
X-APPLE-STRUCTURED-LOCATION;VALUE=URI;X-ADDRESS=Ofiar Oświęcimskich 36\, 
 Wroclaw\, 50-059\, Poland;X-APPLE-RADIUS=100;X-TITLE=One Love Wrocław:geo
 :51.108,17.03431
END:VEVENT
BEGIN:VTIMEZONE
TZID:Europe/Warsaw
X-LIC-LOCATION:Europe/Warsaw
BEGIN:STANDARD
DTSTART:20181028T020000
TZOFFSETFROM:+0200
TZOFFSETTO:+0100
TZNAME:CET
END:STANDARD
END:VTIMEZONE
END:VCALENDAR