BEGIN:VCALENDAR
VERSION:2.0
PRODID:-//wp-events-plugin.com//7.2.3.1//EN
TZID:Europe/Warsaw
X-WR-TIMEZONE:Europe/Warsaw
BEGIN:VEVENT
UID:46807@night4u.pl
DTSTART;TZID=Europe/Warsaw:20200214T220000
DTEND;TZID=Europe/Warsaw:20200215T043000
DTSTAMP:20200331T151224Z
URL:https://night4u.pl/wydarzenia/%d0%bc%d0%be%d0%bb%d0%be%d0%b4%d0%be%d0%
 b9-%d0%b2%d1%80%d0%be%d1%86%d0%bb%d0%b0%d0%b2-%d0%b2-wall-steet-club/
SUMMARY:Молодой Вроцлав в Wall Steet Club
DESCRIPTION:Wro ❤️ в пятницу 14 февраля\, объявля
 ем общий сбор! Встречаемся в сердце клуб
 ной жизни\, клубе Wall Street (Pasaż Niepolda). И это б
 удет самый шумный движ в этом месте!\n\nЭт
 ой ночью в наших колонках любимые треки 
 от Скриптонита\, Макса Коржа\, ЛСП\, Big Baby Ta
 pe\, Pharaoh\, Little Big\, Элджея и других. Будем же
 чь 🔥\n\n🗓 Пятница\, 14 февраля 📍Wall Street Club\
 n\n-----\nNasza Tusa - czyli melanż z języka rosyjskiego. Tej nocy w nas
 zych głośnikach zabrzmią najlepsze utwory od wschodnich gwiazd: Little 
 Big\, Jah Khalib\, Big Baby Tape\, Feduk\, Eldzhey\, Pharaoh\, Max Kozh\, 
 Grebz i inni.\n\n🗓 Piątek\, 14 luty 📍Wall Street Club\n\nBilet 20z
 ł / Start 22:00
ATTACH;FMTTYPE=image/jpeg:https://night4u.pl/wp-content/uploads/2020/02/15
 4090_image_83670540_2728121497222950_5813090445311344640_o.jpg
CATEGORIES:dolnośląskie
LOCATION:Wall Street Club\, Ruska 51\, Wroclaw\, 50-010\, Poland
GEO:51.1104;17.0255
X-APPLE-STRUCTURED-LOCATION;VALUE=URI;X-ADDRESS=Ruska 51\, Wroclaw\, 50-010
 \, Poland;X-APPLE-RADIUS=100;X-TITLE=Wall Street Club:geo:51.1104,17.0255
END:VEVENT
BEGIN:VTIMEZONE
TZID:Europe/Warsaw
X-LIC-LOCATION:Europe/Warsaw
BEGIN:STANDARD
DTSTART:20191027T020000
TZOFFSETFROM:+0200
TZOFFSETTO:+0100
TZNAME:CET
END:STANDARD
END:VTIMEZONE
END:VCALENDAR