BEGIN:VCALENDAR
VERSION:2.0
PRODID:-//wp-events-plugin.com//7.2.3.1//EN
TZID:Europe/Warsaw
X-WR-TIMEZONE:Europe/Warsaw
BEGIN:VEVENT
UID:45650@night4u.pl
DTSTART;TZID=Europe/Warsaw:20200208T220000
DTEND;TZID=Europe/Warsaw:20200209T010000
DTSTAMP:20200208T005519Z
URL:https://night4u.pl/wydarzenia/%d0%bd%d0%b0%d1%88%d0%b0-%d1%82%d1%83%d1
 %81%d0%b0-%d0%b2-%d0%b6%d0%b5%d1%88%d1%83%d0%b2%d0%b5/
SUMMARY:Наша Туса в Жешуве!
DESCRIPTION:Жэшув наконец-то! Наш первый\, мощн
 ый движ состоится в клубе LUKR! В нашем рас
 поряжении танцпол\, бары\, мощный звук и с
 вет.  Этой ночью звучат любимые треки от 
 Макса Коржа\, ЛСП\, Скриптонита\, Мияги\, Big
  Baby Tape\, Little Big и других. Будем гореть 🔥\n\n
 🗓 8 февраля  📍LUKR Club  🎟 15zł\n\n—————— \nN
 asza Tusa - czyli melanż z języka rosyjskiego. Tej nocy w naszych głoś
 nikach zabrzmią najlepsze utwory od wschodnich gwiazd: Little Big\, Jah K
 halib\, Big Baby Tape\, Feduk\, Allj\, Pharaoh\, Max Kozh\, Grebz i inni.\
 n\nBilet 15zł / Start 22:00
ATTACH;FMTTYPE=image/jpeg:https://night4u.pl/wp-content/uploads/2020/01/14
 8165_image_82717419_2432724503498111_6935379023392407552_o.jpg
CATEGORIES:podkarpackie
LOCATION:Millenium HALL\, Rzeszów\, Poland
GEO:50.027526;22.014042
X-APPLE-STRUCTURED-LOCATION;VALUE=URI;X-ADDRESS=Rzeszów\, Poland;X-APPLE-R
 ADIUS=100;X-TITLE=Millenium HALL:geo:50.027526,22.014042
END:VEVENT
BEGIN:VTIMEZONE
TZID:Europe/Warsaw
X-LIC-LOCATION:Europe/Warsaw
BEGIN:STANDARD
DTSTART:20191027T020000
TZOFFSETFROM:+0200
TZOFFSETTO:+0100
TZNAME:CET
END:STANDARD
END:VTIMEZONE
END:VCALENDAR