BEGIN:VCALENDAR
VERSION:2.0
PRODID:-//wp-events-plugin.com//7.2.3.1//EN
TZID:Europe/Warsaw
X-WR-TIMEZONE:Europe/Warsaw
BEGIN:VEVENT
UID:37265@night4u.pl
DTSTART;TZID=Europe/Warsaw:20200227T190000
DTEND;TZID=Europe/Warsaw:20200227T230000
DTSTAMP:20200226T160351Z
URL:https://night4u.pl/wydarzenia/%d0%bf%d0%b0%d0%bd%d0%b8%d1%85%d0%b8%d0%
 b4%d0%b0-tour-2020-%d0%b1%d0%b0%d1%82%d1%8e%d1%88%d0%ba%d0%b0-malevolent-c
 reation-wroclaw/
SUMMARY:Батюшка (Batushka) / Malevolent Creation / Konkhra - Wrocła
 w
DESCRIPTION:Ready To Rock RTR &amp\; Core-poration zapraszają na koncert:\
 nБатюшка / Batushka (black/doom metal)\nMalevolent Creation (death 
 metal)\nKONKHRA (death metal)\n\nБатюшка wraca do Polski i na zach
 ód Europy. W ramach панихида Tour 2020\, zespół Krzysztofa Drab
 ikowskiego odwiedzi m.in. Wrocław\, Kraków\, Warszawę i Poznań\, promu
 jąc nowy album„Панихида” („Panihida”). Grupie towarzyszy
 ć będzie legenda death metalu z USA – Malevolent Creation oraz zespó
 ł Konkhra z Danii. \n\nБатюшка / Batushka (black/doom metal\, Pols
 ka)\nSukces albumu „Liourgiya” (2015) zelektryzował świat ekstremaln
 ego metalu. Z anonimowego projektu\, Батюшка stał się jednym z na
 jpopularniejszych zespołów metalowych na świecie. Niespotykana wcześni
 ej wizja\, w której metalowe brzmienie\nnasycone zostało prawosławną e
 stetyką i jej symbolami\, robiła wrażenie zarówno w odsłonie studyjne
 j\, jak i na koncertach\, które zyskały renomę muzycznych ceremonii. Cz
 tery lata po debiucie\, Батюшка wraca z najnowszym albumem. „Па
 нихида” to\nobrazoburcze ujęcie prawosławnego nabożeństwa ża
 łobnego. Koncerty na przełomie lutego i marca będą kolejną okazją by
  obcować z wyjątkową atmosferą mrocznej\, wschodniej obrzędowości.\n
 https://батюшка.pl/\n\nMalevolent Creation (death metal\, USA)\nZes
 pół\, którego nie trzeba przedstawiać fanom ekstremalnego metalu. To j
 uż trzy dekady\, jak Malevolent Creation kształtują oblicze tego ekstre
 malnego gatunku\, pozostając jednym z jego najbardziej bezkompromisowych 
 przedstawicieli. Mimo licznych zmian w składzie\, muzyka zespołu Phila F
 asciany (gitara) zawsze\nreprezentowała to co stanowi esencję metalu śm
 ierci: brutalność\, intensywność oraz swoistą chwytliwość. Świadcz
 ą o tym nie tylko fenomenalny debiut „The Ten Commandments” (1991)\, 
 lecz również kolejne płyty\, takie jak „Stillborn” (1993)\, „The 
 Fine Art of Murder” (1998) czy „Dead Man’s Path” (2015)\, będąca
  ostatnią ze zmarłym Brettem Hoffmannem (RIP) w roli wokalisty. 2019 rok
  to kolejny studyjny cios\, pt. „The 13th Beast”\, który udowadnia\, 
 że na tytuł „Mike’a Tysona Death Metalu” Amerykanie w pełni sobie
  zasłużyli.\n\nKONKHRA (death metal\, Dania)\nNawet jeśli Dania kojarzy
  się głównie z Kingiem Diamondem i Larsem Ulrichem\, to kraj ten ma te
 ż swoich dumnych reprezentantów w dziedzinie death metalu. Konkhra gra w
  tym gronie pierwsze skrzypce. W zeszłym roku zespół świętował XXX-l
 ecie powstania. Ta rocznica zbiegła się z premierą albumu “Alpha and 
 the Omega” (Hammerheart Records)\, który jest potwierdzeniem klasy Duń
 czyków. Na przestrzeni trzech dekad\, przez skład Konkhra przewinęły s
 ię takie osobistości jak James Murphy (Death\, ex-Testament) czy Chris K
 ontos (ex-Machine Head). Po koncertach na ojczystej ziemi\, przychodzi cza
 s na resztę Starego Kontynentu. Panihida Tour jest do tego świetną okaz
 ją\n\n27 lutego 2019\, Klub Pralnia\, Wrocław\ndrzwi: 19.00\, start: 19.
 30\nBilety: 70 zł - przedsprzedaż w sieci GOOUT\, 80 zł - w dniu koncer
 tu.
ATTACH;FMTTYPE=image/jpeg:https://night4u.pl/wp-content/uploads/2020/01/10
 2717_image_83106881_2494179957490061_6194455168642187264_n.jpg
CATEGORIES:dolnośląskie
LOCATION:Klub Pralnia\, Krakowska 100\, Wroclaw\, 50-427\, Poland
GEO:51.090707;17.066005
X-APPLE-STRUCTURED-LOCATION;VALUE=URI;X-ADDRESS=Krakowska 100\, Wroclaw\, 5
 0-427\, Poland;X-APPLE-RADIUS=100;X-TITLE=Klub Pralnia:geo:51.090707,17.06
 6005
END:VEVENT
BEGIN:VTIMEZONE
TZID:Europe/Warsaw
X-LIC-LOCATION:Europe/Warsaw
BEGIN:STANDARD
DTSTART:20191027T020000
TZOFFSETFROM:+0200
TZOFFSETTO:+0100
TZNAME:CET
END:STANDARD
END:VTIMEZONE
END:VCALENDAR