BEGIN:VCALENDAR
VERSION:2.0
PRODID:-//wp-events-plugin.com//7.2.3.1//EN
TZID:Europe/Warsaw
X-WR-TIMEZONE:Europe/Warsaw
BEGIN:VEVENT
UID:2880@night4u.pl
DTSTART;TZID=Europe/Warsaw:20190112T210000
DTEND;TZID=Europe/Warsaw:20190113T040000
DTSTAMP:20190108T150513Z
URL:https://night4u.pl/wydarzenia/%e2%80%a2-12-01-19-%e2%80%a2-muzyczna-en
 ergiczna-sobota-w-forum/
SUMMARY:• 12.01.19 • Muzyczna energiczna sobota w Forum !
DESCRIPTION:Muzyczna sobota w FORUM!\nKlubowo\, danceowo\, czyli energiczne
  Forum !\nDJ: CRISSFEIT\nSTART: 21.00
ATTACH;FMTTYPE=image/jpeg:https://night4u.pl/wp-content/uploads/2019/01/98
 98_image_49643212_2934527256573440_7051537461884747776_o.jpg
CATEGORIES:świętokrzyskie
LOCATION:FORUM - Music Club\, ul. Żwirki 40\, Włoszczowa\, 29-100\, Polan
 d
GEO:50.85124;19.97031
X-APPLE-STRUCTURED-LOCATION;VALUE=URI;X-ADDRESS=ul. Żwirki 40\, Włoszczow
 a\, 29-100\, Poland;X-APPLE-RADIUS=100;X-TITLE=FORUM - Music Club:geo:50.8
 5124,19.97031
END:VEVENT
BEGIN:VTIMEZONE
TZID:Europe/Warsaw
X-LIC-LOCATION:Europe/Warsaw
BEGIN:STANDARD
DTSTART:20181028T020000
TZOFFSETFROM:+0200
TZOFFSETTO:+0100
TZNAME:CET
END:STANDARD
END:VTIMEZONE
END:VCALENDAR