BEGIN:VCALENDAR
VERSION:2.0
PRODID:-//wp-events-plugin.com//7.2.3.1//EN
TZID:Europe/Warsaw
X-WR-TIMEZONE:Europe/Warsaw
BEGIN:VEVENT
UID:48662@night4u.pl
DTSTART;TZID=Europe/Warsaw:20200229T213000
DTEND;TZID=Europe/Warsaw:20200301T040000
DTSTAMP:20200331T141741Z
URL:https://night4u.pl/wydarzenia/%e2%80%a2-29-02-20-%e2%80%a2-re-cue-live
 -mix-do-2230-free-drink/
SUMMARY:• 29.02.20 • Re Cue - Live Mix - Do 22:30 Free DRINK !
DESCRIPTION:Już w najbliższą sobotę w Forum 💥 Re Cue - Live Mix ! 
 💥\n• Do 22.30 FREE DRINK ! \nAktualnie TOP polskich DJów!\n- Twórca
  hitów takich jak:\n▄ Chillwagon - @ (Re Cue Bootleg)\n▄ The Prince K
 arma - Later Bitc*es (Re Cue x MATSON Bootleg)\n▄ Dzeko x Torres - L'amo
 ur Toujours (DJ Endriu &amp\; Re Cue Bootleg)\n▄ Showtek - Booyah (NoizB
 asses &amp\; Re Cue Bootleg)\n▄ Vicetone &amp\; Tony Igy - Astronomia 20
 18 (Re Cue Bootleg)\n▄ Pakito - You Wanna Rock (Re Cue 2018 Rework)\n▄
  Cosmic Gate - Exploration of Space (Re Cue Bootleg)\n_______________\nFor
 um - Music Club\, ul. Żwirki 40\, Włoszczowa\n• DJ: MaxOne\, Crissfeit
 \n• Start: 21:30\n• REZERWACJA: FACEBOOK
ATTACH;FMTTYPE=image/jpeg:https://night4u.pl/wp-content/uploads/2020/02/16
 6330_image_85189991_4107048899321264_1638444321646575616_o.jpg
CATEGORIES:świętokrzyskie
LOCATION:FORUM - Music Club\, ul. Żwirki 40\, Włoszczowa\, 29-100\, Polan
 d
GEO:50.85124;19.97031
X-APPLE-STRUCTURED-LOCATION;VALUE=URI;X-ADDRESS=ul. Żwirki 40\, Włoszczow
 a\, 29-100\, Poland;X-APPLE-RADIUS=100;X-TITLE=FORUM - Music Club:geo:50.8
 5124,19.97031
END:VEVENT
BEGIN:VTIMEZONE
TZID:Europe/Warsaw
X-LIC-LOCATION:Europe/Warsaw
BEGIN:STANDARD
DTSTART:20191027T020000
TZOFFSETFROM:+0200
TZOFFSETTO:+0100
TZNAME:CET
END:STANDARD
END:VTIMEZONE
END:VCALENDAR