BEGIN:VCALENDAR
VERSION:2.0
PRODID:-//wp-events-plugin.com//7.2.3.1//EN
TZID:Europe/Warsaw
X-WR-TIMEZONE:Europe/Warsaw
BEGIN:VEVENT
UID:6406@night4u.pl
DTSTART;TZID=Europe/Warsaw:20190216T210000
DTEND;TZID=Europe/Warsaw:20190216T210000
DTSTAMP:20190205T171056Z
URL:https://night4u.pl/wydarzenia/%e2%80%a2-hollywood-party-%e2%80%a2-16-u
 rodziny-klubu-zamkowa-%e2%80%a2/
SUMMARY:• HOLLYWOOD PARTY • 16 URODZINY KLUBU ZAMKOWA •
DESCRIPTION:Kochani Zamkowicze! \n\nCzeka na Was coroczna\, niezapomniana i
 mpreza... czyli urodziny klubu!\nNasz Zamek jest dla Was już 16 lat! To o
 grom czasu\, w którym powstała księga wspomnień!\nTaką księgę tworz
 ycie sami... każdego weekendu! \nDziękujemy Wam za to! \nChcemy Was zapr
 osić na niesamowitą...\nGALĘ\, czyli HOLLYWOOD PARTY! \n\nZamek tego wi
 eczoru będzie wyjątkowy\, odświętny\, a klimat będzie przypominał ga
 lę rozdania Oscarów! \nCzerwony dywan\, aleja gwiazd\, luksusowe ozdoby\
 , ścianka celebrycka i... luksusowe stroje! \nPoczujmy się jak celebryci
 \, wyglądajmy jak milion dolarów! \nPanie i Panowie cechy obowiązujące
 go dress codu: \n• celebrycki \n• luksusowy \n• wykwintny \n• wyra
 finowany\n• najmodniejszy \n• galowy\n• błyszczący w blasku fleszy
  \n• nietuzinkowy \n• a dla odważnych : kontrowersyjny! \n\nWidzimy s
 ię już 16 lutego na czerwonym dywanie. Do Waszej dyspozycji będzie wyj
 ątkowa „ścianka”\, na tle której możecie zrobić sobie pamiątkowe
  zdjęcia z tego wieczoru. A już o północy pokroimy wspólnie tort i za
 śpiewamy sto lat naszemu Zamkowi! \n\nO muzyczne doznania i poprowadzenie
  celebryckiej gali zadbają: \nDj Piotr Węzigowski oraz Dj Marcin Wilk!
ATTACH;FMTTYPE=image/jpeg:https://night4u.pl/wp-content/uploads/2019/02/18
 927_image_51440201_2541751629172909_2912311370869374976_n.jpg
CATEGORIES:świętokrzyskie
LOCATION:Klub Zamkowa\, Zamkowa 2\, Kielce\, 25-009\, Poland
GEO:50.868771;20.625644
X-APPLE-STRUCTURED-LOCATION;VALUE=URI;X-ADDRESS=Zamkowa 2\, Kielce\, 25-009
 \, Poland;X-APPLE-RADIUS=100;X-TITLE=Klub Zamkowa:geo:50.868771,20.625644
END:VEVENT
BEGIN:VTIMEZONE
TZID:Europe/Warsaw
X-LIC-LOCATION:Europe/Warsaw
BEGIN:STANDARD
DTSTART:20181028T020000
TZOFFSETFROM:+0200
TZOFFSETTO:+0100
TZNAME:CET
END:STANDARD
END:VTIMEZONE
END:VCALENDAR