BEGIN:VCALENDAR
VERSION:2.0
PRODID:-//wp-events-plugin.com//7.2.3.1//EN
TZID:Europe/Warsaw
X-WR-TIMEZONE:Europe/Warsaw
BEGIN:VEVENT
UID:29608@night4u.pl
DTSTART;TZID=Europe/Warsaw:20191018T220000
DTEND;TZID=Europe/Warsaw:20191019T060000
DTSTAMP:20191018T105726Z
URL:https://night4u.pl/wydarzenia/%e2%80%a2szkolna-dyskoteka-nagi-instynkt
 %e2%80%a2/
SUMMARY:•Szkolna Dyskoteka | Nagi Instynkt•
DESCRIPTION:Nagi Instynkt ⚔\nSharon Stone👄\npolicjanci 🚓\nkajdanki 
 💍\nlód 🍾\n\nSzkolna Dyskoteka nawiązuje tematycznie do tego\, co\,
  czytaliśmy\, oglądaliśmy i słuchaliśmy 20 lat temu! To jedyna imprez
 a w kraju\, gdzie muzyka dance przeplata się z rockiem\, trancem\, techno
  i klasycznymi "wolnymi"\,\n\nTym razem na parkiecie rządzić będzie int
 ryga! \nKto będzie dobrym policjantem\, a kto złym? Kto skończy ten wie
 czór w kajdankach? Czy lód do coolera jest wystarczająco pokruszony?\n\
 nNa listę świadków zdarzenia powołujemy: Cher\, Britney Spears\, Scoot
 er\, Kayah\, Madonna\, Roxette\, Alexia\, Mr. President\n\nSala Lustrzana:
 \nHrabia +\nPTFM\ni przyjaciele\n\nSala Szampańska:\nSimoBiskup\n\n🌟 W
 EJŚCIE:\n🔑 - wstęp free\nPozostali goście do 23 - free\npo godzinie 
 23 - 20 PLN\n\nZASADY: \n- selekcja\n- dress code: wyjątkowość\n- tylko
  próżne zdjęcia\n\nRezerwacje / Loże: 506203214
ATTACH;FMTTYPE=image/jpeg:https://night4u.pl/wp-content/uploads/2019/10/68
 311_image_72849991_493810394683623_1039912260689985536_o.jpg
CATEGORIES:wielkopolskie
LOCATION:Próżność\, Niepodległości 8a\, Poznan\, 61-875\, Poland
GEO:52.405584;16.91872
X-APPLE-STRUCTURED-LOCATION;VALUE=URI;X-ADDRESS=Niepodległości 8a\, Pozna
 n\, 61-875\, Poland;X-APPLE-RADIUS=100;X-TITLE=Próżność:geo:52.405584,
 16.91872
END:VEVENT
BEGIN:VTIMEZONE
TZID:Europe/Warsaw
X-LIC-LOCATION:Europe/Warsaw
BEGIN:DAYLIGHT
DTSTART:20190331T030000
TZOFFSETFROM:+0100
TZOFFSETTO:+0200
TZNAME:CEST
END:DAYLIGHT
END:VTIMEZONE
END:VCALENDAR