BEGIN:VCALENDAR
VERSION:2.0
PRODID:-//wp-events-plugin.com//7.2.3.1//EN
TZID:Europe/Warsaw
X-WR-TIMEZONE:Europe/Warsaw
BEGIN:VEVENT
UID:48535@night4u.pl
DTSTART;TZID=Europe/Warsaw:20200314T220000
DTEND;TZID=Europe/Warsaw:20200315T050000
DTSTAMP:20200309T002744Z
URL:https://night4u.pl/wydarzenia/%e2%84%99%f0%9d%95%86%f0%9d%95%83%f0%9d%
 95%8a%f0%9d%95%82%f0%9d%95%80-%f0%9d%94%b9%f0%9d%94%bc%f0%9d%94%b8%f0%9d%9
 5%8b-da-vosk-docta-spisek-jednego-gafo/
SUMMARY:ℙ𝕆𝕃𝕊𝕂𝕀 𝔹𝔼𝔸𝕋 - Da Vosk Docta / Spisek J
 ednego / Gafo
DESCRIPTION:Nowy cykl w DK - ℙ𝕆𝕃𝕊𝕂𝕀 𝔹𝔼𝔸𝕋\nNa p
 ierwszy ogień lecą:\n\n⭐️ Da Vosk Docta - ceniony\, wrocławski DJ i
  producent. Publikując trzy mixtape'y o nazwie „Internet Ghetto”\, da
 ł wszystkim znać o swoim unikalnym stylu. Świat online to miejsce\, w k
 tórym czuje się najlepiej\, dlatego „Internet Ghetto” zostało szybk
 o rozpoznane i zapewniło mu bezpieczne miejsce w muzycznym podziemiu\, ni
 e tylko rodzinnego miasta Wrocławia\, ale również całej Polski. \n\n
 ⭐️ Spisek Jednego - producent\, dj\, znacie go z płyt Flirtini\, Otso
 chodzi\, JWP. Współpracuje z Pauliną Przybysz i zespołem Eabs. \n\n⭐
 ️ Dj Gafo - od wielu lat rozkręca klubowe parkiety w całej Polsce\, fi
 nalista mistrzostw RED BULL 3STYLE.\n\n\nstart 22 / fb free do 23 / 15/20z
 ł\n+21\n\n@ REZERWACJE @\nWszystkie informacje dotyczące rezerwacji:\n60
 1-529-515
ATTACH;FMTTYPE=image/jpeg:https://night4u.pl/wp-content/uploads/2020/02/16
 5911_image_87472206_2937138226352128_7758069748264337408_o.jpg
CATEGORIES:lubelskie
LOCATION:Dom Kultury\, ul. Krakowskie Przedmieście 19\, Lublin\, 20-002\, 
 Poland
GEO:51.24787;22.56342
X-APPLE-STRUCTURED-LOCATION;VALUE=URI;X-ADDRESS=ul. Krakowskie Przedmieści
 e 19\, Lublin\, 20-002\, Poland;X-APPLE-RADIUS=100;X-TITLE=Dom Kultury:geo
 :51.24787,22.56342
END:VEVENT
BEGIN:VTIMEZONE
TZID:Europe/Warsaw
X-LIC-LOCATION:Europe/Warsaw
BEGIN:STANDARD
DTSTART:20191027T020000
TZOFFSETFROM:+0200
TZOFFSETTO:+0100
TZNAME:CET
END:STANDARD
END:VTIMEZONE
END:VCALENDAR