BEGIN:VCALENDAR
VERSION:2.0
PRODID:-//wp-events-plugin.com//7.2.3.1//EN
TZID:Europe/Warsaw
X-WR-TIMEZONE:Europe/Warsaw
BEGIN:VEVENT
UID:22976@night4u.pl
DTSTART;TZID=Europe/Warsaw:20190803T200000
DTEND;TZID=Europe/Warsaw:20190804T060000
DTSTAMP:20190724T170344Z
URL:https://night4u.pl/wydarzenia/%e2%96%b2-i-was-born-in-80s-90s-00s/
SUMMARY:▲ I was born in 80's 90's 00's
DESCRIPTION:⭐Nowe idzie\, ale stare nie przemija … a w ten wieczór zab
 aw się z nami jak za dawnych lat. \n\nPamiętasz? Jeśli tak\, przyjdź i
  zostań gwiazdą parkietu. Ten kto powiedział “Było\, minęło\, nie 
 warto do tego wracać”\, chyba nigdy nie spotkał na swojej drodze naszy
 ch rezydentów\, którzy poprzez swoją muzykę potrafią przenieść nas 
 w inny wymiar czasowy. Wróćmy do przeszłości i zabawmy się do przeboj
 ów „z tamtych lat” odpowiednio odświeżonych specjalnie dla nas. ⭐
 \n\nLine Up: Chris\nR&B / PoP /  Old School / Rap \n\n⭐NOWE kawałki\, 
 ⭐ODJECHANE mixy i ⭐MEGA taneczne bity.\n\nRezerwacja miejsc :\n? event
 s.krakow@gmail.com\n\nhttp://www.klub.krakow.pl/totu/\n#Instagram  totu_cl
 ub_\n\nToTu Club zastrzega sobie prawo do selekcji gości i może odmówi
 ć wstępu bez podania przyczyny. Wstęp tylko dla osób pełnoletnich.
ATTACH;FMTTYPE=image/jpeg:https://night4u.pl/wp-content/uploads/2019/07/54
 297_image_67799282_1717655625045385_8389849297088151552_o.jpg
CATEGORIES:małopolskie
LOCATION:B4 Bracka 4\, ul.Bracka 4\, Kraków\, 31-005\, Poland
GEO:50.06042;19.93637
X-APPLE-STRUCTURED-LOCATION;VALUE=URI;X-ADDRESS=ul.Bracka 4\, Kraków\, 31-
 005\, Poland;X-APPLE-RADIUS=100;X-TITLE=B4 Bracka 4:geo:50.06042,19.93637
END:VEVENT
BEGIN:VTIMEZONE
TZID:Europe/Warsaw
X-LIC-LOCATION:Europe/Warsaw
BEGIN:DAYLIGHT
DTSTART:20190331T030000
TZOFFSETFROM:+0100
TZOFFSETTO:+0200
TZNAME:CEST
END:DAYLIGHT
END:VTIMEZONE
END:VCALENDAR