BEGIN:VCALENDAR
VERSION:2.0
PRODID:-//wp-events-plugin.com//7.2.3.1//EN
TZID:Europe/Warsaw
X-WR-TIMEZONE:Europe/Warsaw
BEGIN:VEVENT
UID:29875@night4u.pl
DTSTART;TZID=Europe/Warsaw:20191025T200000
DTEND;TZID=Europe/Warsaw:20191026T040000
DTSTAMP:20191026T004244Z
URL:https://night4u.pl/wydarzenia/%e2%96%ba%e2%96%bazabawa-na-wschodnia-nu
 tke-%e2%96%badj-irecki-%e2%96%bazorka-na-zywo/
SUMMARY:►►Zabawa na Wschodnią Nutkę ►DJ IRECKI ►ZORKA na żywo
DESCRIPTION:Moi drodzy\n\nJuż 25/10 zapraszamy: \nZABAWA NA WSCHODNIĄ NUT
 KĘ !\n\nGwiazda wieczoru - ZORKA- Koncert  NA ŻYWO\nImprezę poprowadzi 
 DJ IRECKI\n\nTwórca hitów:\n♫CZAROWNICA\nhttps://www.youtube.com/watch
 ?v=kVUBwOMsfPw\n\n♫ROZPRYHAJTE CHŁOPCI KONI \nhttps://www.youtube.com/w
 atch?v=w526Fs5b_M4\n\n♫CYGANOCZKA AZA\nhttps://www.youtube.com/watch?v=b
 Guyy_ZwN34\n\n♫PALUBIŁA JA JAHO\nhttps://www.youtube.com/watch?v=WqbaLn
 Q7quY\n\nTego wieczoru będziemy grać na 2 sale. Będzie 2 dj. Będzie sw
 ojsko i zabawnie!\n\nSTUDENCI (z legitymacją) -20% NA BARZE !\n\nWSTĘP P
 ŁATNY 20ZŁ\nPłatne przy wejściu w dniu imprezy\n\nInformacja i bezpła
 tna rezerwacja stolików pod nr tel: 570-590-120\n\n★★★★★★★
 ★★★★★★★★★★★★★★★★★★★★★★★\n\n
 ► Miejsce: Elixir Club ul. Lipowa 30 🎉\n\n► Data: 25.10.2019 🔜 P
 IĄTEK\n\n► Start: 20:00 🔥\n\n► Dresscode: elegant/no-sport. 💃\n
 \n► WEJŚCIE 18+\n\nRezerwacja loży: 570-590-120\n———————
 —————————————————-\nKlub zastrzega prawo
  do selekcji gości. Wchodząc\, akceptujesz regulamin klubu (m.in publiko
 wanie zdjęć i filmów).
ATTACH;FMTTYPE=image/jpeg:https://night4u.pl/wp-content/uploads/2019/10/68
 840_image_71104072_2556120077785834_8201284770911485952_o.jpg
CATEGORIES:podlaskie
LOCATION:Elixir Club\, ul. Lipowa 30\, Białystok\, 15-427\, Poland
GEO:53.13423;23.1484
X-APPLE-STRUCTURED-LOCATION;VALUE=URI;X-ADDRESS=ul. Lipowa 30\, Białystok\
 , 15-427\, Poland;X-APPLE-RADIUS=100;X-TITLE=Elixir Club:geo:53.13423,23.1
 484
END:VEVENT
BEGIN:VTIMEZONE
TZID:Europe/Warsaw
X-LIC-LOCATION:Europe/Warsaw
BEGIN:DAYLIGHT
DTSTART:20190331T030000
TZOFFSETFROM:+0100
TZOFFSETTO:+0200
TZNAME:CEST
END:DAYLIGHT
END:VTIMEZONE
END:VCALENDAR