BEGIN:VCALENDAR
VERSION:2.0
PRODID:-//wp-events-plugin.com//7.2.3.1//EN
TZID:Europe/Warsaw
X-WR-TIMEZONE:Europe/Warsaw
BEGIN:VEVENT
UID:48740@night4u.pl
DTSTART;TZID=Europe/Warsaw:20200228T210000
DTEND;TZID=Europe/Warsaw:20200229T040000
DTSTAMP:20200228T193038Z
URL:https://night4u.pl/wydarzenia/%e2%96%ba-bella-ciao-%e2%96%ba-napad-na-
 gdansk-%e2%96%ba-protokultura-%e2%96%ba/
SUMMARY:► Bella Ciao ► Napad na Gdańsk! ► Protokultura ►
DESCRIPTION:🔊... bella\, ciao\, ciao\, ciao! ...🔊\nTakiej imprezy w G
 dańsku jeszcze nie było 🔥\n\n▬▬▬▬▬▬▬▬▬\n💸💰 Be
 lla Ciao \n💸💰 Napad na Protokulturę\n💸💰 piątek\, 28 lutego 2
 020\n💸💰 Wstęp 16+\n▬▬▬▬▬▬▬▬▬\n\nOgólnopolski cyk
 l imprez licealnych STREFA IMPREZ wita Trójmiasto i zaprasza na pierwszą
  swoją imprezę do klubu Protokultura w Gdańsku! :)\n\nKojarzycie fenome
 nalny "Dom z Papieru"? :) No to zdecydowanie pokochacie tę imprezę! Przy
 gotowaliśmy coś dla fanów tego popularnego serialu!  Czas przeżyć pod
 obną przygodę w Gdańsku! Już w piątek 28 lutego klub Protokultura zos
 tanie przejęty przez całą masę przestępców w czerwonych kombinezonac
 h i Maskach Salvadora Dalliego .... :D\nTak. Mamy maski. Tak \, mamy kosti
 umy. Tak.... dla WAS też mamy maski :) \n\nPodczas imprezy rozdamy Wam ma
 ski Daliego abyście poczuli niesamowity klimat tej wyjątkowej imprezy 
 🔥 W końcu w tej osławionej mennicy wszyscy musieli wyglądać tak sam
 o!\n\nTego dnia w Protokulturze możesz dołączyć do gangu Profesora i p
 oczuć się jak członek ekipy\, a później... Jeśli chcecie się dowied
 zieć co dalej\, koniecznie odwiedźcie nasz klub 28 lutego. Zdradzimy Wam
  tylko że rozdamy maski znane z serialu\, a z wyrzutni poleci konfetti z 
 kasą :D\n\nSzykujcie się na kosmicznie dobrą imprezę jakiej jeszcze ni
 e było!\n\nA Ty dołączysz do gangu Profesora? 😁\n\nAtrakcje nie tylk
 o dla miłośników serialu. Każdy znajdzie coś dla siebie!\n\nPODSUMOWA
 NIE:\n▬▬▬▬▬▬▬▬▬\n📌BELLA CIAO - NAPAD NA PROTOKULTURĘ
 \n📌28 LUTEGO 2020\, PIĄTEK\n📌PROTOKULTURA\, GDAŃSK\n📌START: 21:
 00\n📌WSTĘP OD 16 LAT\n📌WJAZD: 20 PLN przedsprzedaż  // 30 PLN w kl
 ubie\n\n★ ★ ★ ★ ★ ★ ★ ★ ★ ★ ★ ★ ★ ★ ★ ★ 
 ★ ★ ★ ★ ★ ★ ★ ★ ★ ★ ★\n\n📌 SPRZEDAWAJ BILETY 📌
 \nSzukamy imprezowiczów w wieku 16-20 lat\, którzy chcą sobie dorobić!
  :) Napisz do nas i sprzedawaj bilety na nasze imprezy :) \n\n★ ★ ★ 
 ★ ★ ★ ★ ★ ★ ★ ★ ★ ★ ★ ★ ★ ★ ★ ★ ★ ★ 
 ★ ★ ★ ★ ★ ★\n\n&lt\;3 KONKURS! &lt\;3\nDo zgarnięcia dajemy W
 am 10 darmowych wejściówek! Co należy zrobić ? Wystarczy\, ze:\n❌ Za
 prosisz minimum 200 osób do wydarzenia i wstawisz screena w komentarzu po
 d tym postem\n❌ Udostępnij wydarzenie publicznie na swojej tablicy\n\nS
 TART
ATTACH;FMTTYPE=image/jpeg:https://night4u.pl/wp-content/uploads/2020/02/16
 6626_image_84089978_165128531571622_8546709676060835840_o.jpg
CATEGORIES:pomorskie
LOCATION:Protokultura - Klub Sztuki Alternatywnej\, Ul. Niterów 29B\, Gdan
 sk\, 80-863\, Poland
GEO:54.364798;18.645647
X-APPLE-STRUCTURED-LOCATION;VALUE=URI;X-ADDRESS=Ul. Niterów 29B\, Gdansk\,
  80-863\, Poland;X-APPLE-RADIUS=100;X-TITLE=Protokultura - Klub Sztuki Alt
 ernatywnej:geo:54.364798,18.645647
END:VEVENT
BEGIN:VTIMEZONE
TZID:Europe/Warsaw
X-LIC-LOCATION:Europe/Warsaw
BEGIN:STANDARD
DTSTART:20191027T020000
TZOFFSETFROM:+0200
TZOFFSETTO:+0100
TZNAME:CET
END:STANDARD
END:VTIMEZONE
END:VCALENDAR