BEGIN:VCALENDAR
VERSION:2.0
PRODID:-//wp-events-plugin.com//7.2.3.1//EN
TZID:Europe/Warsaw
X-WR-TIMEZONE:Europe/Warsaw
BEGIN:VEVENT
UID:32177@night4u.pl
DTSTART;TZID=Europe/Warsaw:20191026T210000
DTEND;TZID=Europe/Warsaw:20191027T050000
DTSTAMP:20250901T212650Z
URL:https://night4u.pl/wydarzenia/%e2%97%84-halloflor-dj-flor-f-wytrawni/
SUMMARY:◄ HalloFlor / Dj Flor f. Wytrawni
DESCRIPTION:STAGE:\n★ Dj Flor f. Wytrawni Gracze\nSelekcja / CASUAL i SMA
 RT CASUAL\n\nWstęp\n♀ do 22 FREE / do 24 - 10 PLN / po 24 - 15 PLN\n♂
  do 22 - 10 PLN / do 24 - 15 PLN / po 24 - 20 PLN\nKarty VIP &amp\; Karty 
 Clubowe / Wstęp DARMOWY\n\nRezerwacje Loży\nwww.emenago.com/i/sofamusicc
 lub
ATTACH;FMTTYPE=image/jpeg:https://night4u.pl/wp-content/uploads/2019/10/76
 772_image_71865880_2422120874534034_8105627495518175232_o.jpg
CATEGORIES:opolskie
LOCATION:Sofa Music Club\, Oleska 102\, Opole\, 45-231\, Poland
GEO:50.681382;17.941253
X-APPLE-STRUCTURED-LOCATION;VALUE=URI;X-ADDRESS=Oleska 102\, Opole\, 45-231
 \, Poland;X-APPLE-RADIUS=100;X-TITLE=Sofa Music Club:geo:50.681382,17.9412
 53
END:VEVENT
BEGIN:VTIMEZONE
TZID:Europe/Warsaw
X-LIC-LOCATION:Europe/Warsaw
BEGIN:DAYLIGHT
DTSTART:20190331T030000
TZOFFSETFROM:+0100
TZOFFSETTO:+0200
TZNAME:CEST
END:DAYLIGHT
BEGIN:STANDARD
DTSTART:20191027T020000
TZOFFSETFROM:+0200
TZOFFSETTO:+0100
TZNAME:CET
END:STANDARD
END:VTIMEZONE
END:VCALENDAR