BEGIN:VCALENDAR
VERSION:2.0
PRODID:-//wp-events-plugin.com//7.2.3.1//EN
TZID:Europe/Warsaw
X-WR-TIMEZONE:Europe/Warsaw
BEGIN:VEVENT
UID:46806@night4u.pl
DTSTART;TZID=Europe/Warsaw:20200215T210000
DTEND;TZID=Europe/Warsaw:20200216T040000
DTSTAMP:20200331T150014Z
URL:https://night4u.pl/wydarzenia/%e2%98%85%e2%98%85%e2%98%85wallentynki-%
 e2%98%85%e2%98%85%e2%98%85/
SUMMARY:★★★Wallentynki ★★★
DESCRIPTION:❤Zakochaj się w Wall Street ❤\n❤Zabierz drugą połówk
 ę lub poznaj kogoś na naszym zwariowanym parkiecie przy największych sz
 tosach muzyki EDM \n❤Za naszą konsoletą nasz sobotni rezydent Mafyou 
 ❤\n❤Rezerwacji stolików możecie  dokonać telefonicznie: \n+ 48 605 
 208 483 lub online http://tinyurl.com/RezerwacjaWallStreet \n❤ Start 21 
 ❤
ATTACH;FMTTYPE=image/jpeg:https://night4u.pl/wp-content/uploads/2020/02/15
 4088_image_84258856_2554069838172575_9005851347974619136_o.jpg
CATEGORIES:dolnośląskie
LOCATION:Wall Street Club\, Ruska 51\, Wroclaw\, 50-010\, Poland
GEO:51.1104;17.0255
X-APPLE-STRUCTURED-LOCATION;VALUE=URI;X-ADDRESS=Ruska 51\, Wroclaw\, 50-010
 \, Poland;X-APPLE-RADIUS=100;X-TITLE=Wall Street Club:geo:51.1104,17.0255
END:VEVENT
BEGIN:VTIMEZONE
TZID:Europe/Warsaw
X-LIC-LOCATION:Europe/Warsaw
BEGIN:STANDARD
DTSTART:20191027T020000
TZOFFSETFROM:+0200
TZOFFSETTO:+0100
TZNAME:CET
END:STANDARD
END:VTIMEZONE
END:VCALENDAR