BEGIN:VCALENDAR
VERSION:2.0
PRODID:-//wp-events-plugin.com//7.2.3.1//EN
TZID:Europe/Warsaw
X-WR-TIMEZONE:Europe/Warsaw
BEGIN:VEVENT
UID:39545@night4u.pl
DTSTART;TZID=Europe/Warsaw:20191214T210000
DTEND;TZID=Europe/Warsaw:20191215T030000
DTSTAMP:20191215T010356Z
URL:https://night4u.pl/wydarzenia/%e2%98%85-14-12-%e2%98%85-bo-ja-tanczyc-
 chce-%e2%98%85-club-wyszynk/
SUMMARY:★ 14/12 ★ Bo ja tańczyć chce ★ Club Wyszynk
DESCRIPTION:W sobotę\, 14 grudnia zapraszamy na balety w najlepszym energi
 cznym wydaniu. U nas znajdziecie wszystkie klimaty muzyczne ❗ Imprezę r
 ozkręca 🎧 Dj K.J. Nie damy się zimowej depresji\, czas rozgrzać park
 iet do czerwoności ❗ W tę noc obowiązuje MEGA PROMOCJA na wszystkie k
 olorowe shoty 🍸 Otwieramy o 17:00\, z imprezą startujemy o 21:00\, baw
 imy do 03:00 ❗ Kuchnia czynna do północy ❗ Spragnieni wrażeń? Czek
 amy na Was w Pub &amp\; Club Wyszynk😍 z potężną dawką pozytywnej en
 ergii ❗\n\nWstęp do 22:00 - 5 zł\, po 22:00 - 10 zł. Masz urodziny w 
 dniu imprezy? Wejdziesz za free ❗\n\n☎ Rezerwacje loży pod numerem te
 l.: 731 846 556 lub 882 478 141 (również w formie SMS) ❗ Wybieracie si
 ę dużą ekipą\, chcecie salę wyłącznie dla siebie? Zarezerwuj vip'ow
 ską salę nawet do 20 osób w cenie 100 zł. ❗ ☎\n\nPromocje przez ca
 łą noc:\n🍺 piwo Pilsner Urquell / 7 zł ❗\n🥃 deska 10 dowolnych 
 shot'ów z karty / 40 zł ❗\n🍸 drink dla Ladies - Sex On The Beach / 
 15 zł ❗\n\n🎉 Chcesz zorganizować domówkę dla swoich znajomych? Ur
 odziny? Wieczór panieński albo kawalerski? Może po prostu chcesz usią
 ść i się napić? Ten dzień jest dla Ciebie. Zgłoś się do Nas (tel. 
 731 846 556 lub 882 478 141\, napisz: bar@wyszynk.com) ❗\n\n❌❌❌\n\
 nW piątek\, 13 grudnia zapraszamy na ★ 13/12 ★ Rudolf Party &amp\; Da
 nce ★ Club Wyszynk. 31 grudnia spędź z nami ★ Sylwester 2019/2020 w 
 Club Wyszynk ★. Do zobaczenia ❗\n\n❌❌❌\n\nClub Wyszynk zastrzega
  sobie prawo do selekcji gości i może odmówić wstępu bez podania przy
 czyny. Wstęp tylko dla osób pełnoletnich. Obiekt monitorowany. Nie odpo
 wiadamy za rzeczy pozostawione na terenie klubu. Regulamin klubu: www.wysz
 ynk.com/regulamin-klubu/
ATTACH;FMTTYPE=image/jpeg:https://night4u.pl/wp-content/uploads/2019/12/11
 6933_image_79730041_469910260329048_4260164209632870400_o.jpg
CATEGORIES:podkarpackie
LOCATION:Pub &amp\; Club Wyszynk\, Okrzei 1\, Krosno\, 38-400\, Poland
GEO:49.696929;21.761701
X-APPLE-STRUCTURED-LOCATION;VALUE=URI;X-ADDRESS=Okrzei 1\, Krosno\, 38-400\
 , Poland;X-APPLE-RADIUS=100;X-TITLE=Pub & Club Wyszynk:geo:49.696929,21.76
 1701
END:VEVENT
BEGIN:VTIMEZONE
TZID:Europe/Warsaw
X-LIC-LOCATION:Europe/Warsaw
BEGIN:STANDARD
DTSTART:20191027T020000
TZOFFSETFROM:+0200
TZOFFSETTO:+0100
TZNAME:CET
END:STANDARD
END:VTIMEZONE
END:VCALENDAR