BEGIN:VCALENDAR
VERSION:2.0
PRODID:-//wp-events-plugin.com//7.2.3.1//EN
TZID:Europe/Warsaw
X-WR-TIMEZONE:Europe/Warsaw
BEGIN:VEVENT
UID:45192@night4u.pl
DTSTART;TZID=Europe/Warsaw:20200215T210000
DTEND;TZID=Europe/Warsaw:20200216T040000
DTSTAMP:20200215T120744Z
URL:https://night4u.pl/wydarzenia/%e2%98%85-15-02-%e2%98%85-top-girls-%e2%
 98%85-co-w-sercu-masz-%e2%98%85-walentynki-%e2%98%85-bounce-club/
SUMMARY:★ 15/02 ★ TOP GIRLS ★ Co w sercu masz ★ Walentynki ★ Boun
 ce Club
DESCRIPTION:Siemaneczko Bounsiki ! 🙌\n\nPrzedostatnia karnawałowa sobot
 a przed nami\, co za tym idzie kolejny zespół z czołówki DISCO/DANCE o
 raz propozycja od nas na spędzenie miłej nocy w Bounce Clubie ! 🔥🔥
 \n\nJuż ❎ 15 LUTEGO ❎ zapraszamy Was na niepowtarzalne WALENTYNKI 202
 0 ! &lt\;3\n\nTej nocy przygotowaliśmy dla Was prawdziwą MUZYCZNĄ BOMB
 Ę 💣 w postaci trzech dziewczyn z wielkim powerem w głosie. 💥\nMowa
  tu o zespole:\n\n⭐⭐ TOP GIRLS ⭐⭐\n\nTwórcy takich hitów jak:\n\
 n❎ Poczuj jak bije serce ❎\nhttps://www.youtube.com/watch?v=DM5_FxwY_U
 w\n❎ Co w sercu masz ❎\nhttps://www.youtube.com/watch?v=xUPJT9onMFI\n
 ❎ Nie jestem taka ❎\nhttps://www.youtube.com/watch?v=PIyP4oe9fws\n❎ 
 Mogę Cię Mieć ❎\nhttps://www.youtube.com/watch?v=Ycms6Tnsohs\n❎ Jak
 byś mnie zechciał ❎\nhttps://www.youtube.com/watch?v=VZ_Yz9HPJRs\n❎ 
 Ostatni raz ❎\nhttps://www.youtube.com/watch?v=UlguX8CliaQ\n❎ ZAKOCHAN
 A ❎\nhttps://www.youtube.com/watch?v=OIZTIYdB5lk\n❎ MLECZKO ❎\nhttps
 ://www.youtube.com/watch?v=Tb1NY0IByTw\n❎ Nie BĘDĘ TWOJA ❎\nhttps://
 www.youtube.com/watch?v=molEXXWcw30\n❎ WESELE ❎\nhttps://www.youtube.c
 om/watch?v=7mLGDOJwVTQ\n\nO klimat podczas imprezy dbają nasi rezydenci:\
 n\n❎ YOUNG BEE\n❎ BIGG_H\n❎ QUADZIU DEEJAY\n❎ BOGDAN\n\nNie masz p
 lanów na ten weekend? Wbijaj do Bounce Club Boguszewiec 😍\n\nPONADTO M
 ASA STANDARDOWYCH WIZUALNYCH ATRAKCJI :\n✖ WYRZUTNIE CO2 ✖ PIROTECHNIK
 A ✖ FIRE SHOW ✖ KONFETTI ✖\n\n❗Uwaga! KONKURS ❗\nDo wygrania 30 
 darmowych wejściówek na to niesamowite wydarzenie 🙂\nAby wygrać nale
 ży:\n1. Udostępnić i polubić ten plakat lub wydarzenie\n2. Oznaczyć w
  komentarzu co najmniej 5 znajomych\n3. Wziąć udział w wydarzeniu i zap
 rosić swoich znajomych\n_____________________________________\nSelekcja n
 a wejściu: ❗+16 ❗(prosimy zabierać dowody osobiste lub inny dokument
  potwierdzający tożsamość)\n_____________________________________\nDRE
 SS CODE: SMART CASUAL - ZAKAZ WSTĘPU W DRESACH.\nOdzież wierzchnia i blu
 zy z kapturem obowiązkowo muszą zostać w szatni.\n_____________________
 ________________\nNIE MOŻE WAS ZABRAKNĄĆ❗\nInfo i rezerwacje: 721 040
  077
ATTACH;FMTTYPE=image/jpeg:https://night4u.pl/wp-content/uploads/2020/01/14
 6561_image_82283717_2716904778362627_7581480531506757632_o.jpg
CATEGORIES:mazowieckie
LOCATION:Bounce Club Boguszewiec\, Boguszewiec 11\, Boguszewiec\, 09-317\, 
 Poland
GEO:52.98073;19.72163
X-APPLE-STRUCTURED-LOCATION;VALUE=URI;X-ADDRESS=Boguszewiec 11\, Boguszewie
 c\, 09-317\, Poland;X-APPLE-RADIUS=100;X-TITLE=Bounce Club Boguszewiec:geo
 :52.98073,19.72163
END:VEVENT
BEGIN:VTIMEZONE
TZID:Europe/Warsaw
X-LIC-LOCATION:Europe/Warsaw
BEGIN:STANDARD
DTSTART:20191027T020000
TZOFFSETFROM:+0200
TZOFFSETTO:+0100
TZNAME:CET
END:STANDARD
END:VTIMEZONE
END:VCALENDAR