BEGIN:VCALENDAR
VERSION:2.0
PRODID:-//wp-events-plugin.com//7.2.3.1//EN
TZID:Europe/Warsaw
X-WR-TIMEZONE:Europe/Warsaw
BEGIN:VEVENT
UID:50135@night4u.pl
DTSTART;TZID=Europe/Warsaw:20200408T220000
DTEND;TZID=Europe/Warsaw:20200409T050000
DTSTAMP:20200312T004346Z
URL:https://night4u.pl/wydarzenia/%e2%98%85-2-urodziny-party-on-%e2%98%85-
 koncert-smolasty-%e2%98%85-08-04-%e2%98%85-black-diamond/
SUMMARY:★ 2 Urodziny Party ON ★ Koncert Smolasty ★ 08.04 ★ Black Di
 amond
DESCRIPTION:🔥 PARTY ON przedstawia: 🔥\n\nKto by pomyślał\, że od n
 aszej pierwszej minęły już 2 lata! Przez ten czas przeszliśmy długą 
 drogę\, żeby spotkać się z Wami podczas II urodzin. To świetna okazja
 \, żeby świętować tą ważną okazję oraz powspominać najlepsze mome
 nty z naszych imprez! Ponadto po raz pierwszy w Białymstoku na imprezie 1
 6+ wystąpi Smolasty\, dlatego nie może Was zabraknąć. Zabierajcie znaj
 omych i już 08.04 świętujemy w Black Diamond Club! 🥳\n\n____________
 _______________________________________\n\nSMOLASTY to twórca hitów taki
 ch jak:\n\n► UZALEŻNIONY \nhttps://youtu.be/LqdG6EI1eSk\n\n► FAKE LOV
 E \nhttps://youtu.be/KGQEa2_IdXY\n\n► TUSZ\nhttps://youtu.be/_YP77ZWvXrY
 \n\n► DO KOŃCA\nhttps://youtu.be/eyKjhNnrvU4\n\n_______________________
 ____________________________\n\nATRAKCJE:\n► Lampka szampana na wejściu
  🥂\n► Gadżety urodzinowe 🎉 \n► 600 opasek FLUO:\n    🔴czerwo
 ne- zajęty/a\n    🔵niebieskie- wolny/a\n    reszta- szukam zabawy\n►
  Fotograf\, który uwieczni wspaniałe chwile 📷\n► Kilkominutowy film
 ik z imprezy 🎬\n► Wiele niespodzianek 🤫\n\n_______________________
 ____________________________\n \nPodsumowując:\n\n►  Smolasty w Białym
 stoku! II Urodziny Party ON\n\n► Środa\, 08.04.2020 (dzień po imprezie
  wolny)\n\n► Black Diamond Club\, ul. Piękna 2\n\n► START: 22:00\n\n
 ► WSTĘP: 16+ \n\n► DRESS CODE: NO-SPORT\n\n► PRZEDSPRZEDAŻ: \nI pu
 la- 25 PLN\nII pula- ???\n\n► BRAMKA: ??? \n\n__________________________
 _________________________\n\nWejściówki dostępne u naszych dystrybutor
 ów:\n\n★  I LO- Olimpia Dryl\, Dominika Nowiczkow\n★  II LO- Zuzia Ż
 ukowska\n★  III LO- Filip Dojlida \n★  IV LO- Weronika Sienkiewicz\, A
 niela Redler\n★  V LO- Dominika Wołosik\, Paula Szmidt\n★  VIII LO- N
 atalka Fiłończuk\, Iza Fiłonowicz\, Olka Bursa\n★  XI LO- Alicja Naza
 rkiewicz\n★  XIV LO- Kornelia Zagórska\n★  2SLO- Laura Bieroza\n★  
 ZSBG- Mateusz Białowąs\, Aleksander Hejn\n★  ZSE- Łukasz Konkol\, Daw
 id Awdziej\n★  ZSG- Filip Bierć\n★  ZSHE- Ola Domanowska\, Ernest Wł
 adyko\n★  ZSTiO- Filip Warachim\n★  ZSR- Kornelia Słoma\, Adrian Dąb
 rowski\n\n\n___________________________________________________\n\nOchrona
  będzie dbała o to aby do klubu nie wchodziły osoby szukające zaczepki
 . Wchodząc\, akceptujesz regulamin klubu Black Diamond i imprezy (m.in. w
 yrażasz zgodę na robienie oraz publikowanie zdjęć i filmów). Osoby ni
 epełnoletnie\, wchodząc oświadczają\, że na imprezie przebywają za z
 godą rodziców lub prawnych opiekunów. Zwroty wejściówek nie są przyj
 mowane\, prosimy o przemyślane zakupy. Agencja Party ON NIE ponosi odpowi
 edzialności za ewentualne błędy ze strony pracowników klubu. \n\n_____
 ______________________________________________\n\n☛ KONKURS ☚\n\nChces
 z wejść za darmo? Nic prostszego.\nWystarczy\, że będziesz jedną z 20
  pierwszych osób\, które zaproszą do wydarzenia minimum 300 osób i udo
 stępnią je publicznie na swojej tablicy!! Screeny jako dowód udostępni
 ajcie w poście na wydarzeniu.\nPowodzenia.\n\nTo będzie niezapomniana no
 c!
ATTACH;FMTTYPE=image/jpeg:https://night4u.pl/wp-content/uploads/2020/03/17
 5175_image_89806145_1291651507701255_3320295940723572736_n.jpg
CATEGORIES:podlaskie
LOCATION:Black Diamond Club\, Piękna 2\, Białystok\, 15-282\, Poland
GEO:53.128851;23.153415
X-APPLE-STRUCTURED-LOCATION;VALUE=URI;X-ADDRESS=Piękna 2\, Białystok\, 15
 -282\, Poland;X-APPLE-RADIUS=100;X-TITLE=Black Diamond Club:geo:53.128851,
 23.153415
END:VEVENT
BEGIN:VTIMEZONE
TZID:Europe/Warsaw
X-LIC-LOCATION:Europe/Warsaw
BEGIN:DAYLIGHT
DTSTART:20200329T030000
TZOFFSETFROM:+0100
TZOFFSETTO:+0200
TZNAME:CEST
END:DAYLIGHT
END:VTIMEZONE
END:VCALENDAR