BEGIN:VCALENDAR
VERSION:2.0
PRODID:-//wp-events-plugin.com//7.2.3.1//EN
TZID:Europe/Warsaw
X-WR-TIMEZONE:Europe/Warsaw
BEGIN:VEVENT
UID:33107@night4u.pl
DTSTART;TZID=Europe/Warsaw:20191026T210000
DTEND;TZID=Europe/Warsaw:20191027T050000
DTSTAMP:20250901T212650Z
URL:https://night4u.pl/wydarzenia/%e2%98%85-24-urodziny-klubu-manhattan-re
 to-26-10-%e2%98%85/
SUMMARY:★ 24 Urodziny Klubu Manhattan - ReTo [26/10] ★
DESCRIPTION:Nadszedł czas Kochani aby zaprosić Was jak co roku na jedno z
  najważniejszych wydarzeń w naszym klubie! ❤️\n24 URODZINY klubu MAN
 HATTAN\, które odbędą się 26 października! 🎂😇\nImpreza szczegó
 lna nie tylko dla nas\, ale również i dla Was!\nTo właśnie Wy drodzy k
 lubowicze tworzycie to miejsce każdego weekendu przez kilkanaście lat je
 go istnienia😍\nMożemy być dumni bo Manhattan jest jednym z najstarszy
 ch imprezowych miejsc na mapie klubowej Polski\, a to wszystko dzięki Wam
  🙏🇵🇱\nW ten wyjątkowy wieczór zaplanowaliśmy dla Was wiele atr
 akcji 😍\nNajważniejszą będzie koncert ReTo czyli jednego z członkó
 w Chillwagonu\, który słynie z takich numerów jak „@„ "Ua" "Half De
 ad" "Papierosy"\nDo tego odpalamy również nasz niesamowity TARAS KTÓRY 
 TECHNO\, na którym wystąpi Siasia jeden z czołowych Polskich graczy teg
 o gatunku 🖤\nNa sali klubowej zaprezentuje się również duet młodych
  dj-ów THE KINGS RAVE 🎧\nJak co roku jedną z największych atrakcji j
 est oczywiście gigantyczny tort urodzinowy 🎂 i hektolitry szampana kt
 órymi będziemy upijać się do białego rana 😅 🍾\nO najlepszy urod
 zinowy klimat zadbają nasi rezydenci Roobs Camilo de Rayo\, Side Effect \
 , Mariush\, Deepblake i Sebastian 🎧\nŚwiętuj razem z nami najważniej
 szą imprezę roku ❤️\nNiech to będzie kolejna urodzinowa noc którą
  będziemy wspominać bardzo długo 🥰\nDo zobaczenia ☺️
ATTACH;FMTTYPE=image/jpeg:https://night4u.pl/wp-content/uploads/2019/10/81
 575_image_73190172_2507844835973314_8123260981968109568_o.jpg
CATEGORIES:wielkopolskie
LOCATION:Manhattan CLUB Czekanów\, ul. Lewkowska 3\, Czekanów\, 63-410\, 
 Poland
GEO:51.676203;17.869596
X-APPLE-STRUCTURED-LOCATION;VALUE=URI;X-ADDRESS=ul. Lewkowska 3\, Czekanów
 \, 63-410\, Poland;X-APPLE-RADIUS=100;X-TITLE=Manhattan CLUB Czekanów:geo
 :51.676203,17.869596
END:VEVENT
BEGIN:VTIMEZONE
TZID:Europe/Warsaw
X-LIC-LOCATION:Europe/Warsaw
BEGIN:DAYLIGHT
DTSTART:20190331T030000
TZOFFSETFROM:+0100
TZOFFSETTO:+0200
TZNAME:CEST
END:DAYLIGHT
BEGIN:STANDARD
DTSTART:20191027T020000
TZOFFSETFROM:+0200
TZOFFSETTO:+0100
TZNAME:CET
END:STANDARD
END:VTIMEZONE
END:VCALENDAR