BEGIN:VCALENDAR
VERSION:2.0
PRODID:-//wp-events-plugin.com//7.2.3.1//EN
TZID:Europe/Warsaw
X-WR-TIMEZONE:Europe/Warsaw
BEGIN:VEVENT
UID:36085@night4u.pl
DTSTART;TZID=Europe/Warsaw:20191130T210000
DTEND;TZID=Europe/Warsaw:20191201T040000
DTSTAMP:20191129T102837Z
URL:https://night4u.pl/wydarzenia/%e2%98%85-30-11-%e2%98%85-kabe-%e2%98%85
 -skiety-klapki-%e2%98%85-cool-club-%e2%98%85-grudziadz-%e2%98%85/
SUMMARY:★ 30/11 ★ KABE ★ Cool Club ★ Grudziądz ★
DESCRIPTION:Witajcie 🙂\n\n👉 SOBOTA - 30.11.2019 👈 \n\nPo raz pierw
 szy na naszej scenie wystąpi:\n\n❌ 🔥 🇵🇱 KABE 🇵🇱🔥❌\n
 \nKoncert rozpocznie się o godzinie 01:00\n\n❌ Twórca hitu: "SKIETY &a
 mp\; KLAPKI"❌\n\nhttps://www.youtube.com/watch?v=WIbGAa34piQ\n\nZagrają
 :\n\n- Sala Retro: DJ NEXI\n- Sala Avangarde: DJ NARCO\n\nBilety: 20 zł\n
 ---------------------------------------\n\n⭐️ Rezerwacje stolików On-
 Line - szybko i wygodnie zarezerwuj stolik przez internet - www.rezerwacje
 coolclub.pl ⭐️\n\nDołącz do wydarzenia i poinformuj Znajomych ❗️
 KABE na żywo w sobotę 30 Listopada 2019 w Cool Clubie 🔥
ATTACH;FMTTYPE=image/jpeg:https://night4u.pl/wp-content/uploads/2019/11/97
 329_image_75349010_3231918100183114_3937795054000668672_o.jpg
CATEGORIES:kujawsko-pomorskie
LOCATION:Cool Club - Grudziądz\, Chełmińska 68\, Grudziadz\, 86-300\, Po
 land
GEO:53.477726;18.746569
X-APPLE-STRUCTURED-LOCATION;VALUE=URI;X-ADDRESS=Chełmińska 68\, Grudziadz
 \, 86-300\, Poland;X-APPLE-RADIUS=100;X-TITLE=Cool Club - Grudziądz:geo:5
 3.477726,18.746569
END:VEVENT
BEGIN:VTIMEZONE
TZID:Europe/Warsaw
X-LIC-LOCATION:Europe/Warsaw
BEGIN:STANDARD
DTSTART:20191027T020000
TZOFFSETFROM:+0200
TZOFFSETTO:+0100
TZNAME:CET
END:STANDARD
END:VTIMEZONE
END:VCALENDAR