BEGIN:VCALENDAR
VERSION:2.0
PRODID:-//wp-events-plugin.com//7.2.3.1//EN
TZID:Europe/Warsaw
X-WR-TIMEZONE:Europe/Warsaw
BEGIN:VEVENT
UID:37894@night4u.pl
DTSTART;TZID=Europe/Warsaw:20191130T210000
DTEND;TZID=Europe/Warsaw:20191201T040000
DTSTAMP:20191129T095929Z
URL:https://night4u.pl/wydarzenia/%e2%98%85-andrzejki-2k19-%e2%98%85-ostat
 nie-epickie-party-tej-jesieni-%e2%98%85/
SUMMARY:★ Andrzejki 2k19 ★ Ostatnie Epickie Party Tej Jesieni! ★
DESCRIPTION:Jak mawia klasyk \, Niby imieniny Andrzeja a pić będą wszysc
 y'\nOstatni weekend listopada zamyka flagowa 'ANDRZEJKOWA' impreza! \n\nSz
 ykuje się nam ostatni gruby balet tej jesieni!\n• Specjalny wystrój kl
 ubu!\n• Dla 50 pierwszych osób ciasteczko z % niespodzianką w środku!
 \n\n🕘 Start: 21:00\n🎫 Wstęp: Do 23:00 10 PLN / 15 PLN\n★ 'ANDRZEJ
 E' Wstęp Free!\n☎ Rezerwacje 735 929 414\n—————————
 ————————————\nDołącz do wydarzenia i poczuj nasz
  klimat!\n\nPASSAGE - IMPREZOWE ❤ MIASTA\, KTÓRE BUDZI SIĘ NOCĄ!\n
 🏢 Starogard Gdański\, Ul. Kościuszki 34H
ATTACH;FMTTYPE=image/jpeg:https://night4u.pl/wp-content/uploads/2019/11/10
 6977_image_78205443_154635255920015_1857435396875485184_o.jpg
CATEGORIES:pomorskie
LOCATION:Passage\, Ul. Tadeusza Kościuszki 34H\, Starogard Gdanski\, 83-20
 0\, Poland
GEO:53.96417;18.53378
X-APPLE-STRUCTURED-LOCATION;VALUE=URI;X-ADDRESS=Ul. Tadeusza Kościuszki 34
 H\, Starogard Gdanski\, 83-200\, Poland;X-APPLE-RADIUS=100;X-TITLE=Passage
 :geo:53.96417,18.53378
END:VEVENT
BEGIN:VTIMEZONE
TZID:Europe/Warsaw
X-LIC-LOCATION:Europe/Warsaw
BEGIN:STANDARD
DTSTART:20191027T020000
TZOFFSETFROM:+0200
TZOFFSETTO:+0100
TZNAME:CET
END:STANDARD
END:VTIMEZONE
END:VCALENDAR