BEGIN:VCALENDAR
VERSION:2.0
PRODID:-//wp-events-plugin.com//7.2.3.1//EN
TZID:Europe/Warsaw
X-WR-TIMEZONE:Europe/Warsaw
BEGIN:VEVENT
UID:32502@night4u.pl
DTSTART;TZID=Europe/Warsaw:20191018T210000
DTEND;TZID=Europe/Warsaw:20191019T040000
DTSTAMP:20191018T095911Z
URL:https://night4u.pl/wydarzenia/%e2%98%85-babski-piatek-w-passage-ladies
 -night-%e2%98%85/
SUMMARY:★ Babski piątek w Passage!  Ladies Night! ★
DESCRIPTION:18 października w piątek przygotowaliśmy coś specjalnie dla
  naszych kobiet 🔥 LADIES NIGHT! \nTej nocy Panie wchodzą do 23:00 za f
 ree! oraz na wejściu otrzymują od naszej załogi barmańskiej powitalneg
 o drinka! \n_____________________\n🕗 Start: 21:00\n🎫 Wstęp: 10 PLN 
 \n☎ Rezerwacje 735 929 414\n\nPASSAGE - MIEJSCE\, KTÓRE BUDZI SIĘ NOC
 Ą!\nGorąco zapraszamy 🔥✌
ATTACH;FMTTYPE=image/jpeg:https://night4u.pl/wp-content/uploads/2019/10/78
 142_image_72782895_136191024431105_2562000244636123136_o.jpg
CATEGORIES:pomorskie
LOCATION:Passage\, Ul. Tadeusza Kościuszki 34H\, Starogard Gdanski\, 83-20
 0\, Poland
GEO:53.96417;18.53378
X-APPLE-STRUCTURED-LOCATION;VALUE=URI;X-ADDRESS=Ul. Tadeusza Kościuszki 34
 H\, Starogard Gdanski\, 83-200\, Poland;X-APPLE-RADIUS=100;X-TITLE=Passage
 :geo:53.96417,18.53378
END:VEVENT
BEGIN:VTIMEZONE
TZID:Europe/Warsaw
X-LIC-LOCATION:Europe/Warsaw
BEGIN:DAYLIGHT
DTSTART:20190331T030000
TZOFFSETFROM:+0100
TZOFFSETTO:+0200
TZNAME:CEST
END:DAYLIGHT
END:VTIMEZONE
END:VCALENDAR