BEGIN:VCALENDAR
VERSION:2.0
PRODID:-//wp-events-plugin.com//7.2.3.1//EN
TZID:Europe/Warsaw
X-WR-TIMEZONE:Europe/Warsaw
BEGIN:VEVENT
UID:51788@night4u.pl
DTSTART;TZID=Europe/Warsaw:20241221T220000
DTEND;TZID=Europe/Warsaw:20241222T010000
DTSTAMP:20241217T224213Z
URL:https://night4u.pl/wydarzenia/%e2%98%85-bad-santa-%e2%98%85-dj-criz-or
 lovsky-x-robert-pe-%e2%98%85-saturday-21-12-%e2%98%85/
SUMMARY:★ BAD Santa ★ DJ Criz Orlovsky x Robert Pe ★ Saturday 21.12 
 ★
DESCRIPTION:★ BAD Santa ★ DJ Criz Orlovsky x Robert Pe ★ Saturday 21.
 12 ★\n\nW dniu 21 grudnia o godzinie 22:00\, specjalnie z okazji Świąt
 \, Teatr Club zamieni się w raj dla wszystkich szalonych nawiedzonych Mik
 ołajów! Przygotujcie się na wyjątkowe wydarzenie o nazwie Bad Santa! 
 🎅💥\n\nNiegrzeczny Mikołaj\, który od dawna ukrywał swoją prawdzi
 wą naturę\, wreszcie odsłoni swoje mroczne oblicze w roli głównej pod
 czas tej niesamowitej imprezy. Przekształci swoje zwyczajowe świąteczne
  obowiązki w szaleństwo\, konkursy z niegrzecznymi nagrodami i wiele wi
 ęcej! 🎅😈\n\nCzekajcie na wieczór pełen niesamowitej muzyki\, ekst
 rawaganckich strojów i niezapomnianych atrakcji. Wybierzcie się do Teatr
  Club i zanurzcie się w świat pełen mrocznej zabawy!✨💥\n\nMusicie 
 to zobaczyć na własne oczy! Oznaczcie swoich przyjaciół i zarezerwujci
 e tę datę w swoich kalendarzach! Będzie to niezapomniana noc\, pełna n
 iegrzecznej zabawy\, dlatego nie możecie tego przegapić! 🎅🎊🎄\n\
 nDo zobaczenia na imprezie BAD Santa! 🎅✨\n___________________________
 _____________\nStart: 22:00\n★ DRESS CODE ★\nSANTA or SMART CASUAL!\nW
 stęp / +21 SELEKCJA\nVIP CARD - CAŁĄ NOC\n_____________________________
 ___________\n★ RESERVATIONS ★\ntel.: +48 508 508 488 (pn-sob: 12:00-20
 :00)\n________________________________________\n★ CONTACT ★\nTEATR CLU
 B\nul. Moniuszki4a\nŁódź 90-111\n______________________________________
 _
ATTACH;FMTTYPE=image/jpeg:https://night4u.pl/wp-content/uploads/2024/12/
 -BAD-Santa-★-DJ-Criz-Orlovsky-x-Robert-Pe-★-Saturday-21.12-★.jpg
CATEGORIES:łódzkie
LOCATION:Teatr Club - Łódź\, Teatr Club - Łódź\, 
X-APPLE-STRUCTURED-LOCATION;VALUE=URI;X-ADDRESS=Teatr Club - Łódź\, ;X-A
 PPLE-RADIUS=100;X-TITLE=Teatr Club - Łódź:geo:0,0
END:VEVENT
BEGIN:VTIMEZONE
TZID:Europe/Warsaw
X-LIC-LOCATION:Europe/Warsaw
BEGIN:STANDARD
DTSTART:20241027T020000
TZOFFSETFROM:+0200
TZOFFSETTO:+0100
TZNAME:CET
END:STANDARD
END:VTIMEZONE
END:VCALENDAR