BEGIN:VCALENDAR
VERSION:2.0
PRODID:-//wp-events-plugin.com//7.2.3.1//EN
TZID:Europe/Warsaw
X-WR-TIMEZONE:Europe/Warsaw
BEGIN:VEVENT
UID:41013@night4u.pl
DTSTART;TZID=Europe/Warsaw:20191228T210000
DTEND;TZID=Europe/Warsaw:20191229T050000
DTSTAMP:20191228T092428Z
URL:https://night4u.pl/wydarzenia/%e2%98%85-before-new-year-yourant-bagrol
 -knassix-%e2%98%85/
SUMMARY:★ Before New Year - Yourant / Bagrol / Knassix ★
DESCRIPTION:Na przedbiegach sylwestrowych\, muzyczne podsumowanie 2019 roku
  zaserwują DJ Yourant\, Bagrol oraz KNASSIX! 🥳\n\nZapnijcie pasy i do
 łączcie już teraz do wydarzenia! 🔥
ATTACH;FMTTYPE=image/jpeg:https://night4u.pl/wp-content/uploads/2019/12/12
 7247_image_80037363_2754299281304588_4783303050330636288_o.jpg
CATEGORIES:łódzkie
LOCATION:Klub Protector Uniejów\, Władysława Reymonta\, Uniejów\, 99-21
 0\, Poland
GEO:51.98111;18.787343
X-APPLE-STRUCTURED-LOCATION;VALUE=URI;X-ADDRESS=Władysława Reymonta\, Uni
 ejów\, 99-210\, Poland;X-APPLE-RADIUS=100;X-TITLE=Klub Protector Uniejów
 :geo:51.98111,18.787343
END:VEVENT
BEGIN:VTIMEZONE
TZID:Europe/Warsaw
X-LIC-LOCATION:Europe/Warsaw
BEGIN:STANDARD
DTSTART:20191027T020000
TZOFFSETFROM:+0200
TZOFFSETTO:+0100
TZNAME:CET
END:STANDARD
END:VTIMEZONE
END:VCALENDAR