BEGIN:VCALENDAR
VERSION:2.0
PRODID:-//wp-events-plugin.com//7.2.3.1//EN
TZID:Europe/Warsaw
X-WR-TIMEZONE:Europe/Warsaw
BEGIN:VEVENT
UID:51219@night4u.pl
DTSTART;TZID=Europe/Warsaw:20210827T210000
DTEND;TZID=Europe/Warsaw:20210828T040000
DTSTAMP:20210827T133637Z
URL:https://night4u.pl/wydarzenia/%e2%98%85-bella-ciao-%e2%98%85-wracamy-%
 e2%98%85-napad-na-nowy-sacz-%e2%98%85-16/
SUMMARY:★ Bella Ciao ★ Wracamy! ★ Napad na Nowy Sącz ★ 16+
DESCRIPTION:WRACAMY!!! 🤩 Impreza Bella Ciao odbędzie się 27 sierpnia w
  klubie Infinity!! 🔥 Impreza odbędzie się na 100%!!! ZAPRASZAMY! 😎
 \n\nWstęp od 16 lat tego dnia! 🙂 Napisz do nas\, zostań promotorem na
 szych imprez\, sprzedawaj bilety i zarabiaj! 🙂\n\n▀▀▀▀▀▀▀
 ▀▀▀▀▀▀▀▀▀▀▀▀▀▀▀▀\n🔥🔥 Bella Ciao - Na
 pad na Infinity\n🔥🔥 piątek\, 27 sierpnia 2021\n🔥🔥 start 21:00
 \n🔥🔥 Infinity Club\n🔥🔥 Wstęp 16+\n▄▄▄▄▄▄▄▄▄
 ▄▄▄▄▄▄▄▄▄▄▄▄▄▄\n\nJuż we wrześniu premiera 5
 . sezonu "Domu z Papieru" na Netflix! :) Przygotowaliśmy coś dla fanów 
 tego popularnego serialu! Czas przeżyć podobną przygodę w klubie Infin
 ity! Już w piątek 27 sierpnia klub Infinity zostanie przejęty przez ca
 łą masę przestępców w czerwonych kombinezonach i Maskach Salvadora Da
 lliego .... 😃 Na pewno okochacie tę imprezę! \n\nTak\, mamy maski. Ta
 k\, mamy kostiumy. Tak.... dla Was też mamy maski 🙂\nPodczas imprezy r
 ozdamy Wam maski Daliego abyście poczuli niesamowity klimat tej wyjątkow
 ej imprezy 🔥 W końcu w tej osławionej mennicy wszyscy musieli wygląd
 ać tak samo!\n\nTego dnia w Infinity możesz dołączyć do gangu Profeso
 ra i poczuć się jak członek ekipy\, a później... Jeśli chcecie się 
 dowiedzieć co dalej\, koniecznie odwiedźcie nasz klub 27 sierpnia. Zdrad
 zimy Wam tylko że rozdamy maski znane z serialu\, a z wyrzutni poleci kon
 fetti z kasą 😃 Szykujcie się na kosmicznie dobrą imprezę jakiej jes
 zcze nie było!\n\nA Ty dołączysz do gangu Profesora? 😁\nAtrakcje nie
  tylko dla miłośników serialu. Każdy znajdzie coś dla siebie!\n\nPODS
 UMOWANIE:\n▬▬▬▬▬▬▬▬▬\n📌 BELLA CIAO - NAPAD NA INFINIT
 Y\n📌 27 SIERPNIA 2021\, PIĄTEK\n📌 INFINITY CLUB\, NOWY SĄCZ\n📌 
 START: 21:00\n📌 WSTĘP OD 16 LAT\n📌 WJAZD: 20 PLN przedsprzedaż// 2
 5 PLN w klubie\n\n✪ BILETY ✪ BILETY ✪ BILETY ✪ BILETY ✪ BILETY 
 ✪\n\n★ W przedsprzedaży jest tylko część biletów z całej puli\, 
 więc jeżeli nie uda Ci się kupić biletu u promotorów\, to przyjdź na
  imprezę\, kupisz na pewno bilet na kasie w klubie w trakcie trwania impr
 ezy 🙂 ★\n\n★ ★ ★ ★ ★ ★ ★ ★ ★ ★ ★ ★ ★ ★ 
 ★ ★ \n\n❌ ZOSTAŃ PROMOTOREM NASZYCH IMPREZ! ❌\nGwarantujemy prowi
 zję od sprzedanych biletów dla Ciebie oraz darmowe wjazdy na imprezki! N
 apisz do nas po więcej szczegółów:\nhttps://www.facebook.com/Imprezowa
 StrefaPL/\n\n▬▬▬▬▬▬▬▬▬▬▬▬▬▬▬▬▬▬\n\n❌
  WEJŚCIE FREE ❌ WEJŚCIE FREE ❌\nKto pierwszy ten lepszy! Udostępnij
  wydarzenie i zaproś min. 200 swoich znajomych i wrzuć w komentarzu zrzu
 t ekranu jak zapraszasz oraz polub nasz fanpage:\nhttps://www.facebook.com
 /ImprezowaStrefaPL/
ATTACH;FMTTYPE=image/jpeg:https://night4u.pl/wp-content/uploads/2021/08/18
 6673_image_232671408_366428308189608_6075658864282004633_n.jpg
CATEGORIES:małopolskie
LOCATION:INFINITY Music Club Nowy Sącz\, ul.Zdrojowa 32\, Nowy Sacz\, 33-3
 00\, Poland
GEO:49.632328;20.700342
X-APPLE-STRUCTURED-LOCATION;VALUE=URI;X-ADDRESS=ul.Zdrojowa 32\, Nowy Sacz\
 , 33-300\, Poland;X-APPLE-RADIUS=100;X-TITLE=INFINITY Music Club Nowy Sąc
 z:geo:49.632328,20.700342
END:VEVENT
BEGIN:VTIMEZONE
TZID:Europe/Warsaw
X-LIC-LOCATION:Europe/Warsaw
BEGIN:DAYLIGHT
DTSTART:20210328T030000
TZOFFSETFROM:+0100
TZOFFSETTO:+0200
TZNAME:CEST
END:DAYLIGHT
END:VTIMEZONE
END:VCALENDAR