BEGIN:VCALENDAR
VERSION:2.0
PRODID:-//wp-events-plugin.com//7.2.3.1//EN
TZID:Europe/Warsaw
X-WR-TIMEZONE:Europe/Warsaw
BEGIN:VEVENT
UID:37895@night4u.pl
DTSTART;TZID=Europe/Warsaw:20191129T210000
DTEND;TZID=Europe/Warsaw:20191130T030000
DTSTAMP:20191129T095929Z
URL:https://night4u.pl/wydarzenia/%e2%98%85-black-friday-night-%e2%98%85-k
 olejna-gruba-impreza-w-passage/
SUMMARY:★ Black Friday Night ★ Kolejna Gruba Impreza w Passage!
DESCRIPTION:Piątek weekendu początek i światowa promka na barze. \nZ oka
 zji 'Black Friday' mamy dla Was trzydziesto procentową zniżkę na koktaj
 le z karty oraz piwo lane za jedyne 4 pln. \n\nNoc przed Andrzejkowym mela
 nżem\, czyli zapowiada nam się kolejna GRUBA IMPREZA W PASSAGE &lt\;3\n\
 nZaproś znajomych i przyjdź sprawdzić co się święci! \n\n🕘 Start:
  21:00\n🎫 Wstęp: 10zł\n☎ Rezerwacje 735 929 414\n——————
 ———————————————\nDołącz do wydarzenia i po
 czuj nasz klimat!\n\nPASSAGE - IMPREZOWE ❤ MIASTA\, KTÓRE BUDZI SIĘ NO
 CĄ!\n🏢 Starogard Gdański\, Ul. Kościuszki 34H
ATTACH;FMTTYPE=image/jpeg:https://night4u.pl/wp-content/uploads/2019/11/10
 6979_image_78482287_154274685956072_1793123849370337280_o.jpg
CATEGORIES:pomorskie
LOCATION:Passage\, Ul. Tadeusza Kościuszki 34H\, Starogard Gdanski\, 83-20
 0\, Poland
GEO:53.96417;18.53378
X-APPLE-STRUCTURED-LOCATION;VALUE=URI;X-ADDRESS=Ul. Tadeusza Kościuszki 34
 H\, Starogard Gdanski\, 83-200\, Poland;X-APPLE-RADIUS=100;X-TITLE=Passage
 :geo:53.96417,18.53378
END:VEVENT
BEGIN:VTIMEZONE
TZID:Europe/Warsaw
X-LIC-LOCATION:Europe/Warsaw
BEGIN:STANDARD
DTSTART:20191027T020000
TZOFFSETFROM:+0200
TZOFFSETTO:+0100
TZNAME:CET
END:STANDARD
END:VTIMEZONE
END:VCALENDAR