BEGIN:VCALENDAR
VERSION:2.0
PRODID:-//wp-events-plugin.com//7.2.3.1//EN
TZID:Europe/Warsaw
X-WR-TIMEZONE:Europe/Warsaw
BEGIN:VEVENT
UID:31975@night4u.pl
DTSTART;TZID=Europe/Warsaw:20191026T220000
DTEND;TZID=Europe/Warsaw:20191027T040000
DTSTAMP:20241220T201905Z
URL:https://night4u.pl/wydarzenia/%e2%98%85-brilliant-night-halloween-rude
 ejay-ita-26-10-%e2%98%85-2/
SUMMARY:★ Brilliant Night: Halloween - Rudeejay (ITA) // 26.10 // ★
DESCRIPTION:[ENGLISH VERSION BELOW]\n\nBrilliant Night powraca w wielkim st
 ylu! Specjalną - Halloweenową edycję uświetni występ naszego gościa 
 zagranicznego (przy okazji absolutny debiut w Polsce) - Rudeejay (Włochy)
  🔥\n\nTwórca wielu bootlegów i mashupów\, które rządzą w Shine\, 
 artysta wytwórni samego Tiësto - Musical Freedom (Spinnin' Records)\, uc
 zestnik największych światowych festiwali\, supportowany przez najwięks
 ze gwiazdy sceny EDM.\n\nDo zobaczenia 26 października (sobota) 💥\n\n
 🎥 Aftermovie zapewni QQfilms 🎥\n\nLINE-UP:\n\n✘✘✘ MAINSTAGE 
 ✘✘✘\n\n✰ Rudeejay (Shine Special Guest/Italy)\nsupport:\n✰ Mike 
 Cieżyński (Shine Guest/Oświęcim)\n✰ ESKEY DJ (Shine Resident/Kraków
 )\n\n✘✘✘ sala R'n'B ✘✘✘\n\n✰ VIT. (Shine Resident/Kraków)\n
 \n✘✘✘ LATIN STAGE ✘✘✘\n\n✰ TIGER DJ (Havana/Kuba)\n✰ NESTY
  DJ (Havana/Kuba)\n________________________________\nStart: 22:00\;\nWjazd
 : wkrótce!\nWiek: 21+!\nObowiązuje: door selection.\n___________________
 _____________\n\n[ENGLISH VERSION]\n\nLet us take you on a journey\, full 
 of surprises\, unique characters and music magic. Become a part of the sho
 w and make history with us!\n\nSHINE - Make Some Noise!\n_________________
 _______________\nStart: 10:00 P.M.\nEntry: soon!\nAge: 21+\nDoor Selection
 .
ATTACH;FMTTYPE=image/jpeg:https://night4u.pl/wp-content/uploads/2019/10/75
 516_image_72270943_2952220488140307_2516645621918597120_o.jpg
CATEGORIES:małopolskie
LOCATION:Shine Club Kraków\, Starowiślna 16\, Kraków\, 31-032\, Poland
GEO:50.05756;19.94445
X-APPLE-STRUCTURED-LOCATION;VALUE=URI;X-ADDRESS=Starowiślna 16\, Kraków\,
  31-032\, Poland;X-APPLE-RADIUS=100;X-TITLE=Shine Club Kraków:geo:50.0575
 6,19.94445
END:VEVENT
BEGIN:VTIMEZONE
TZID:Europe/Warsaw
X-LIC-LOCATION:Europe/Warsaw
BEGIN:DAYLIGHT
DTSTART:20190331T030000
TZOFFSETFROM:+0100
TZOFFSETTO:+0200
TZNAME:CEST
END:DAYLIGHT
BEGIN:STANDARD
DTSTART:20191027T020000
TZOFFSETFROM:+0200
TZOFFSETTO:+0100
TZNAME:CET
END:STANDARD
END:VTIMEZONE
END:VCALENDAR