BEGIN:VCALENDAR
VERSION:2.0
PRODID:-//wp-events-plugin.com//7.2.3.1//EN
TZID:Europe/Warsaw
X-WR-TIMEZONE:Europe/Warsaw
BEGIN:VEVENT
UID:4999@night4u.pl
DTSTART;TZID=Europe/Warsaw:20190126T210000
DTEND;TZID=Europe/Warsaw:20190127T040000
DTSTAMP:20190124T164439Z
URL:https://night4u.pl/wydarzenia/%e2%98%85-ccarnival-party-26-01-18-%e2%9
 8%85/
SUMMARY:★ CCarnival Party // 26.01.18 ★
DESCRIPTION:? 26.01.2018 - Club Corrado - Suchowola  ?\n\n??? CCarnival Par
 ty ???\nTej nocy muzycznie przenosimy się prosto do słonecznej ?? Brazyl
 ii ! ??\nMile widziane kreacje karnawałowe! :)\n\nZa sterami :\n\n➡ Sal
 a Klubowa\n?? DJ Guma\n?? DjX\n?? Barsch\n\n➡ Sala Dance\n?? Dj Dioda\n\
 n⬇ Weź udział w Wydarzeniu i zgarnij darmowe wejście ⬇ \n★ CCarni
 val Party // 26.01.18 ★\n____________________________________________\n
 ⏰ Start - 21:00\n♥ ♥ ♥ ♥ ♥ ♥ ♥ ♥ ♥ ♥ ♥ ♥ ♥ ♥
  ♥ ♥ ♥ ♥ ♥ ♥\nPAMIĘTAJCIE ! WSZYSCY NA CC !
ATTACH;FMTTYPE=image/jpeg:https://night4u.pl/wp-content/uploads/2019/01/15
 838_image_50679390_2016353468411853_5538857745534418944_o.jpg
CATEGORIES:lubelskie
LOCATION:Club Corrado - Suchowola\, województwo Lubelskie\, Suchowola\, 21
 -305\, Poland
GEO:51.701422;22.729619
X-APPLE-STRUCTURED-LOCATION;VALUE=URI;X-ADDRESS=województwo Lubelskie\, Su
 chowola\, 21-305\, Poland;X-APPLE-RADIUS=100;X-TITLE=Club Corrado - Suchow
 ola:geo:51.701422,22.729619
END:VEVENT
BEGIN:VTIMEZONE
TZID:Europe/Warsaw
X-LIC-LOCATION:Europe/Warsaw
BEGIN:STANDARD
DTSTART:20181028T020000
TZOFFSETFROM:+0200
TZOFFSETTO:+0100
TZNAME:CET
END:STANDARD
END:VTIMEZONE
END:VCALENDAR