BEGIN:VCALENDAR
VERSION:2.0
PRODID:-//wp-events-plugin.com//7.2.3.1//EN
TZID:Europe/Warsaw
X-WR-TIMEZONE:Europe/Warsaw
BEGIN:VEVENT
UID:46564@night4u.pl
DTSTART;TZID=Europe/Warsaw:20200208T210000
DTEND;TZID=Europe/Warsaw:20200209T040000
DTSTAMP:20200208T092412Z
URL:https://night4u.pl/wydarzenia/%e2%98%85-crouzer-b-day-camel-l-mr-whoo-
 %e2%98%85/
SUMMARY:★ Crouzer B-DAY - Camel l Mr. Whoo ★
DESCRIPTION:Zaczynamy wielki bal 🥳 urodziny ➡️ Crouzera czas zaczą
 ć 🎂 😈\n\nZa sterami goście specjalni - Camel i Mr Whoo! \n\nMamy d
 la Was kilka niespodzianek\, więc wpadajcie 😇
ATTACH;FMTTYPE=image/jpeg:https://night4u.pl/wp-content/uploads/2020/02/15
 2680_image_83404580_2847457141988801_8941867008257949696_n.jpg
CATEGORIES:łódzkie
LOCATION:Klub Protector Uniejów\, Władysława Reymonta\, Uniejów\, 99-21
 0\, Poland
GEO:51.98111;18.787343
X-APPLE-STRUCTURED-LOCATION;VALUE=URI;X-ADDRESS=Władysława Reymonta\, Uni
 ejów\, 99-210\, Poland;X-APPLE-RADIUS=100;X-TITLE=Klub Protector Uniejów
 :geo:51.98111,18.787343
END:VEVENT
BEGIN:VTIMEZONE
TZID:Europe/Warsaw
X-LIC-LOCATION:Europe/Warsaw
BEGIN:STANDARD
DTSTART:20191027T020000
TZOFFSETFROM:+0200
TZOFFSETTO:+0100
TZNAME:CET
END:STANDARD
END:VTIMEZONE
END:VCALENDAR