BEGIN:VCALENDAR
VERSION:2.0
PRODID:-//wp-events-plugin.com//7.2.3.1//EN
TZID:Europe/Warsaw
X-WR-TIMEZONE:Europe/Warsaw
BEGIN:VEVENT
UID:43784@night4u.pl
DTSTART;TZID=Europe/Warsaw:20200201T210000
DTEND;TZID=Europe/Warsaw:20200202T050000
DTSTAMP:20200131T184714Z
URL:https://night4u.pl/wydarzenia/%e2%98%85-daj-to-glosniej-w-manhattanie-
 mama-ostrzegala-%e2%98%85/
SUMMARY:★ Daj To Głośniej w Manhattanie! - Mama Ostrzegała! ★
DESCRIPTION:Czas na kolejny koncert\, na który wielu z Was czekało! 🥳\
 nNumer "Mama Ostrzegała" w serwisie YouTube został odtworzony już ponad
  100 milionów razy! 🙆‍♂️😲🔥\nPierwszego lutego "damy to gł
 ośniej" i odpalimy ten mega hit na naszej sali Dance! 🔈🔉🔊\nNa ż
 ywo zaprezentują go oczywiście jego twórcy\, czyli zespół DajToGłoś
 niej! 😍\nStart koncertu około godziny 02:00 ⏰\n\n⬇️Rezerwacje lo
 ży⬇️\nhttp://www.emenago.com/i/manhattanclub lub tel. 607 929 291\nKw
 ota w całości do wykorzystania na barze!🥳🍹\n\nDo zobaczenia na par
 kiecie! 🙌
ATTACH;FMTTYPE=image/jpeg:https://night4u.pl/wp-content/uploads/2020/01/14
 0837_image_83563389_2715048695252926_1040571460860510208_o.jpg
CATEGORIES:wielkopolskie
LOCATION:Manhattan CLUB Czekanów\, ul. Lewkowska 3\, Czekanów\, 63-410\, 
 Poland
GEO:51.676203;17.869596
X-APPLE-STRUCTURED-LOCATION;VALUE=URI;X-ADDRESS=ul. Lewkowska 3\, Czekanów
 \, 63-410\, Poland;X-APPLE-RADIUS=100;X-TITLE=Manhattan CLUB Czekanów:geo
 :51.676203,17.869596
END:VEVENT
BEGIN:VTIMEZONE
TZID:Europe/Warsaw
X-LIC-LOCATION:Europe/Warsaw
BEGIN:STANDARD
DTSTART:20191027T020000
TZOFFSETFROM:+0200
TZOFFSETTO:+0100
TZNAME:CET
END:STANDARD
END:VTIMEZONE
END:VCALENDAR