BEGIN:VCALENDAR
VERSION:2.0
PRODID:-//wp-events-plugin.com//7.2.3.1//EN
TZID:Europe/Warsaw
X-WR-TIMEZONE:Europe/Warsaw
BEGIN:VEVENT
UID:21206@night4u.pl
DTSTART;TZID=Europe/Warsaw:20190705T210000
DTEND;TZID=Europe/Warsaw:20190706T040000
DTSTAMP:20190704T191634Z
URL:https://night4u.pl/wydarzenia/%e2%98%85-dj-insane-dj-killer-%e2%98%85-
 piatek-05-07-%e2%98%85-klub-galaktyka-gdynia/
SUMMARY:★ Dj Insane & Dj Killer ★ Piątek 05.07 ★ Klub Galaktyka Gdyn
 ia
DESCRIPTION:★ Dj Insane & Dj Killer ★ Piątek 05.07 ★ Klub Galaktyka 
 Gdynia\n\nW najbliższy piątek przygotowaliśmy dla Was coś specjalnego 
 ?\nJuż 5 lipca na galaktycznej scenie pojawią się aż dwie gwiazdy! Dj 
 Insane i Dj Killer przejmą tej nocy konsoletę naszego klubu ?\nJesteśmy
  pewni\, że to będzie kolejny gruby melanż w Galaktyce ? Nie możecie t
 ego przegapić! \n\nSzykuje na się mega gruby BANG ???\nDołącz do wydar
 zenia!\n#INFO\n―――――――\n? Sobota 05.07\n? Start: 21:00\n? BI
 LETY: \ndo 22: 1zł\npo 22: 15zł\n\n#ZAREZERWUJ\n―――――――\n
 ☎ Rezerwacje loży 510 036 519\nOdbiór loży do 23:00.\n\nGorąco zapra
 szamy ?✌
ATTACH;FMTTYPE=image/jpeg:https://night4u.pl/wp-content/uploads/2019/07/50
 593_image_65599773_716271228829048_7038280298001334272_o.jpg
CATEGORIES:pomorskie
LOCATION:Klub Galaktyka Gdynia\, Hryniewickiego 10/50\, Gdynia\, 81-340\, P
 oland
GEO:54.522688;18.54651
X-APPLE-STRUCTURED-LOCATION;VALUE=URI;X-ADDRESS=Hryniewickiego 10/50\, Gdyn
 ia\, 81-340\, Poland;X-APPLE-RADIUS=100;X-TITLE=Klub Galaktyka Gdynia:geo:
 54.522688,18.54651
END:VEVENT
BEGIN:VTIMEZONE
TZID:Europe/Warsaw
X-LIC-LOCATION:Europe/Warsaw
BEGIN:DAYLIGHT
DTSTART:20190331T030000
TZOFFSETFROM:+0100
TZOFFSETTO:+0200
TZNAME:CEST
END:DAYLIGHT
END:VTIMEZONE
END:VCALENDAR