BEGIN:VCALENDAR
VERSION:2.0
PRODID:-//wp-events-plugin.com//7.2.3.1//EN
TZID:Europe/Warsaw
X-WR-TIMEZONE:Europe/Warsaw
BEGIN:VEVENT
UID:31327@night4u.pl
DTSTART;TZID=Europe/Warsaw:20191011T210000
DTEND;TZID=Europe/Warsaw:20191012T050000
DTSTAMP:20191015T103807Z
URL:https://night4u.pl/wydarzenia/%e2%98%85-dj-kuba-neitan-%e2%98%85-%e2%9
 8%9b-11-10-piatek-%e2%98%9b-cina-club/
SUMMARY:★ Dj Kuba &amp\; Neitan ★ ☛ 11.10 - Piątek ☛ Cina Club
DESCRIPTION:Już w najbliższy piątek 11 października szykujcie się na m
 ega uderzenie z DJ KUBĄ &amp\; NEITANEM uczestnikami SUNRISE FESTIVAL 201
 9. \n\nTWÓRCY HITÓW: \n☛ NO BOYFREND \n☛ COLOMBIA\n☛ JUNGLE JANE\n
 \nNaszych gości supportuje rezydent klubu Cina - DJ ROSSI\n\nPanie do god
 ziny 22:00 wstęp free\, po godz. 22:00 wstęp 5 zł. \nPanowie studenci d
 o godziny 23:00 wstęp  5 zł\, Panowie studenci po godz. 23:00 wstęp 7 z
 ł\, pozostali przez całą noc wstęp 10 zł\, selekcja 18+\n\nPODSUMOWUJ
 ĄC : \n☛   Data: 11.10 - PIĄTEK \n☛   Godzina: 21:00 \n☛   Miejsce
 : Cina Club  \n\nLadies po darmowe loże zapraszamy na --------&gt\;   www
 .emenago.opole.pl :*
ATTACH;FMTTYPE=image/jpeg:https://night4u.pl/wp-content/uploads/2019/10/73
 050_image_72639923_2711462132250685_4754193230877163520_o.jpg
CATEGORIES:opolskie
LOCATION:Cina Club\, Katowicka 55\, Opole\, 45-061\, Poland
GEO:50.667448;17.93523
X-APPLE-STRUCTURED-LOCATION;VALUE=URI;X-ADDRESS=Katowicka 55\, Opole\, 45-0
 61\, Poland;X-APPLE-RADIUS=100;X-TITLE=Cina Club:geo:50.667448,17.93523
END:VEVENT
BEGIN:VTIMEZONE
TZID:Europe/Warsaw
X-LIC-LOCATION:Europe/Warsaw
BEGIN:DAYLIGHT
DTSTART:20190331T030000
TZOFFSETFROM:+0100
TZOFFSETTO:+0200
TZNAME:CEST
END:DAYLIGHT
END:VTIMEZONE
END:VCALENDAR