BEGIN:VCALENDAR
VERSION:2.0
PRODID:-//wp-events-plugin.com//7.2.3.1//EN
TZID:Europe/Warsaw
X-WR-TIMEZONE:Europe/Warsaw
BEGIN:VEVENT
UID:31718@night4u.pl
DTSTART;TZID=Europe/Warsaw:20191019T210000
DTEND;TZID=Europe/Warsaw:20191020T040000
DTSTAMP:20191017T014737Z
URL:https://night4u.pl/wydarzenia/%e2%98%85-dj-kuba-neitan-%e2%98%85-sobot
 a-19-10-%e2%98%85-club-kotwica-szymbark-%e2%98%85/
SUMMARY:★ DJ Kuba & Neitan ★ Sobota 19.10 ★ Club Kotwica Szymbark ★
DESCRIPTION:Już 19 października do naszego klubu po raz kolejny zawita je
 den z najpopularniejszych klubowych duetów w Polsce! \n\nIch produkcje or
 az remixy wydawane są w najlepszych światowych wytwórniach muzycznych o
 raz są nieodłącznym elementem klubowych imprez w Polsce 🔥💥 Twórc
 y takich soczystych bangerów jak: "Colombia"\, "Jungle Jane" czy "Drop Th
 e Beat" z pewnością rozbujają parkiet klubu Kotwica do granic możliwo
 ści 😁\n\nDo zobaczenia załogo ⚓\n▬▬▬▬▬▬▬▬▬\n#INFO
 \nREZERWACJA LOŻY 📱 608 638 424\n🎫 Wstęp: 15zł\n\nSzymbark\, ul. 
 Sportowa 23\n▬▬▬▬▬▬▬▬▬\nWBIJAJ DO NAS NA INSTA ▶ www.i
 nstagram.com/clubkotwica
ATTACH;FMTTYPE=image/jpeg:https://night4u.pl/wp-content/uploads/2019/10/74
 883_image_71931555_3284341274939157_5449918980108058624_o.jpg
CATEGORIES:pomorskie
LOCATION:Disco Club Kotwica\, Sportowa 23\, Szymbark\, 83-315\, Poland
GEO:54.229659;18.108067
X-APPLE-STRUCTURED-LOCATION;VALUE=URI;X-ADDRESS=Sportowa 23\, Szymbark\, 83
 -315\, Poland;X-APPLE-RADIUS=100;X-TITLE=Disco Club Kotwica:geo:54.229659,
 18.108067
END:VEVENT
BEGIN:VTIMEZONE
TZID:Europe/Warsaw
X-LIC-LOCATION:Europe/Warsaw
BEGIN:DAYLIGHT
DTSTART:20190331T030000
TZOFFSETFROM:+0100
TZOFFSETTO:+0200
TZNAME:CEST
END:DAYLIGHT
END:VTIMEZONE
END:VCALENDAR