BEGIN:VCALENDAR
VERSION:2.0
PRODID:-//wp-events-plugin.com//7.2.3.1//EN
TZID:Europe/Warsaw
X-WR-TIMEZONE:Europe/Warsaw
BEGIN:VEVENT
UID:51254@night4u.pl
DTSTART;TZID=Europe/Warsaw:20210828T210000
DTEND;TZID=Europe/Warsaw:20210829T050000
DTSTAMP:20210827T135122Z
URL:https://night4u.pl/wydarzenia/%e2%98%85-dj-salis-x-dj-n-o-%e2%98%85-28
 -08-%e2%98%85-sobotnie-loty/
SUMMARY:★ DJ Salis x DJ N.O. ★ 28/08 ★ Sobotnie Loty
DESCRIPTION:DJ Salis x DJ N.O. sobotniej nocy na żywo w niebie! 🔥\n\nRE
 ZERWACJE: http://bit.ly/2w3r4FG
ATTACH;FMTTYPE=image/jpeg:https://night4u.pl/wp-content/uploads/2021/08/18
 6750_image_239767878_4219780798069549_8812687205757134521_n.jpg
CATEGORIES:lubuskie
LOCATION:Heaven Zielona Góra\, ul. Generała Józefa Sowińskiego 38 C\, Z
 ielona Góra\, 65-067\, Poland
GEO:51.934371;15.509862
X-APPLE-STRUCTURED-LOCATION;VALUE=URI;X-ADDRESS=ul. Generała Józefa Sowi
 ńskiego 38 C\, Zielona Góra\, 65-067\, Poland;X-APPLE-RADIUS=100;X-TITLE
 =Heaven Zielona Góra:geo:51.934371,15.509862
END:VEVENT
BEGIN:VTIMEZONE
TZID:Europe/Warsaw
X-LIC-LOCATION:Europe/Warsaw
BEGIN:DAYLIGHT
DTSTART:20210328T030000
TZOFFSETFROM:+0100
TZOFFSETTO:+0200
TZNAME:CEST
END:DAYLIGHT
END:VTIMEZONE
END:VCALENDAR