BEGIN:VCALENDAR
VERSION:2.0
PRODID:-//wp-events-plugin.com//7.2.3.1//EN
TZID:Europe/Warsaw
X-WR-TIMEZONE:Europe/Warsaw
BEGIN:VEVENT
UID:49330@night4u.pl
DTSTART;TZID=Europe/Warsaw:20200307T210000
DTEND;TZID=Europe/Warsaw:20200308T050000
DTSTAMP:20200331T140703Z
URL:https://night4u.pl/wydarzenia/%e2%98%85-dzien-kobiet-%e2%98%85-belchat
 ow-heaven-pokaz-chippendales/
SUMMARY:★ Dzień Kobiet ★ Bełchatów Heaven | pokaz chippendales
DESCRIPTION:Zapraszamy 7.03.2020 - Dzien Kobiet w Heaven Bełchatów\, z te
 j okazji Mega pokaz Chippendales grupy Army of Lovers \;)
ATTACH;FMTTYPE=image/jpeg:https://night4u.pl/wp-content/uploads/2020/03/17
 0779_image_88986747_2629630500467945_7642418725798281216_o.png
CATEGORIES:łódzkie
LOCATION:Heaven Bełchatów\, Przemysłowa 12B\, Bełchatow\, 97-400\, Pola
 nd
GEO:51.34774;19.38338
X-APPLE-STRUCTURED-LOCATION;VALUE=URI;X-ADDRESS=Przemysłowa 12B\, Bełchat
 ow\, 97-400\, Poland;X-APPLE-RADIUS=100;X-TITLE=Heaven Bełchatów:geo:51.
 34774,19.38338
END:VEVENT
BEGIN:VTIMEZONE
TZID:Europe/Warsaw
X-LIC-LOCATION:Europe/Warsaw
BEGIN:STANDARD
DTSTART:20191027T020000
TZOFFSETFROM:+0200
TZOFFSETTO:+0100
TZNAME:CET
END:STANDARD
END:VTIMEZONE
END:VCALENDAR