BEGIN:VCALENDAR
VERSION:2.0
PRODID:-//wp-events-plugin.com//7.2.3.1//EN
TZID:Europe/Warsaw
X-WR-TIMEZONE:Europe/Warsaw
BEGIN:VEVENT
UID:40375@night4u.pl
DTSTART;TZID=Europe/Warsaw:20191228T210000
DTEND;TZID=Europe/Warsaw:20191229T050000
DTSTAMP:20191227T184718Z
URL:https://night4u.pl/wydarzenia/%e2%98%85-eluwina-kacper-blonsky-live-ko
 ncert-%e2%98%85/
SUMMARY:★ Eluwina - Kacper Blonsky Live Koncert ★
DESCRIPTION:Odpalamy wielki sylwestrowy Before! 😎🔥😎\n\nW sobotę 2
 8 grudnia na naszej scenie koncertowej pojawi się znany wszystkim dobrze 
 Youtuber\, twórca mega hitu "Eluwina" - Kacper Blonsky! 💪😎 \nNumer 
 naszego gościa podbił serca milionów słuchaczy! "Eluwina" w serwisie Y
 ouTube w dwa miesiące osiągnęła prawie 20 milinów wyświetleń! 🙆
 ‍♂️🔥 \nMusicie koniecznie posłuchać ten hit na żywo! 🥳\n\n
 ⚠️UWAGA⚠️ Do godziny 22:00 wstęp do klubu za jedyne 10 zł!🤗\n
 \n⬇️Rezerwacje loży⬇️\nhttp://www.emenago.com/i/manhattanclub lub
  tel. 607 929 291\nKwota w całości do wykorzystania na barze!🤗🥳
 🍹\n\nDo zobaczenia na parkiecie❤️🙌
ATTACH;FMTTYPE=image/jpeg:https://night4u.pl/wp-content/uploads/2019/12/12
 1918_image_80793969_2646451665445963_1162421443984621568_o.jpg
CATEGORIES:wielkopolskie
LOCATION:Manhattan CLUB Czekanów\, ul. Lewkowska 3\, Czekanów\, 63-410\, 
 Poland
GEO:51.676203;17.869596
X-APPLE-STRUCTURED-LOCATION;VALUE=URI;X-ADDRESS=ul. Lewkowska 3\, Czekanów
 \, 63-410\, Poland;X-APPLE-RADIUS=100;X-TITLE=Manhattan CLUB Czekanów:geo
 :51.676203,17.869596
END:VEVENT
BEGIN:VTIMEZONE
TZID:Europe/Warsaw
X-LIC-LOCATION:Europe/Warsaw
BEGIN:STANDARD
DTSTART:20191027T020000
TZOFFSETFROM:+0200
TZOFFSETTO:+0100
TZNAME:CET
END:STANDARD
END:VTIMEZONE
END:VCALENDAR