BEGIN:VCALENDAR
VERSION:2.0
PRODID:-//wp-events-plugin.com//7.2.3.1//EN
TZID:Europe/Warsaw
X-WR-TIMEZONE:Europe/Warsaw
BEGIN:VEVENT
UID:34147@night4u.pl
DTSTART;TZID=Europe/Warsaw:20191102T210000
DTEND;TZID=Europe/Warsaw:20191103T050000
DTSTAMP:20191102T092255Z
URL:https://night4u.pl/wydarzenia/%e2%98%85-filipek-live-koncert-manhattan
 -czekanow-%e2%98%85/
SUMMARY:★ Filipek Live Koncert - Manhattan Czekanów ★
DESCRIPTION:Po grubych urodzinach naszego klubu\, czas na kolejną imprezow
 ą propozycje obok której nie można przejść obojętnie! 😎🔥\n\nW 
 sobotę 2 listopada na naszej scenie koncertowej pojawi się kolejny mega 
 gość - ⭐️ Filipek⭐️\nTej nocy usłyszycie na żywo takie hity ja
 k "Dementor"\, "No Make Up"\, "Pętla"\, "Endorfina" czy "Samotność" 
 🔥🤩🔥\n\nFilipek to polski raper i freestyler oraz autor wielu teks
 tów\, były zawodnik bitew typu freestyle w których niejednokrotnie zwyc
 iężał. Na swoim koncie ma kilka albumów\, dzięki którym zyskał nies
 amowitą ilość fanów 😎👏\nW swojej bujnej karierze miał okazje ws
 półpracować z takimi artystami jak Tymek\, Quebonafide\, ReTo czy Kartk
 y. 😎\n\n⚠️UWAGA⚠️ Do godziny 22:00 wstęp do klubu za jedyne 10
  zł! 🤩\n\nPrzygotujcie się na kolejną niezapomnianą noc w naszym kl
 ubie! 😍 Do zobaczenia na parkiecie! 🙌
ATTACH;FMTTYPE=image/jpeg:https://night4u.pl/wp-content/uploads/2019/10/87
 429_image_73423443_2529669770457487_2078581888556990464_o.jpg
CATEGORIES:wielkopolskie
LOCATION:Manhattan CLUB Czekanów\, ul. Lewkowska 3\, Czekanów\, 63-410\, 
 Poland
GEO:51.676203;17.869596
X-APPLE-STRUCTURED-LOCATION;VALUE=URI;X-ADDRESS=ul. Lewkowska 3\, Czekanów
 \, 63-410\, Poland;X-APPLE-RADIUS=100;X-TITLE=Manhattan CLUB Czekanów:geo
 :51.676203,17.869596
END:VEVENT
BEGIN:VTIMEZONE
TZID:Europe/Warsaw
X-LIC-LOCATION:Europe/Warsaw
BEGIN:STANDARD
DTSTART:20191027T020000
TZOFFSETFROM:+0200
TZOFFSETTO:+0100
TZNAME:CET
END:STANDARD
END:VTIMEZONE
END:VCALENDAR