BEGIN:VCALENDAR
VERSION:2.0
PRODID:-//wp-events-plugin.com//7.2.3.1//EN
TZID:Europe/Warsaw
X-WR-TIMEZONE:Europe/Warsaw
BEGIN:VEVENT
UID:24653@night4u.pl
DTSTART;TZID=Europe/Warsaw:20190816T210000
DTEND;TZID=Europe/Warsaw:20190817T040000
DTSTAMP:20190815T220623Z
URL:https://night4u.pl/wydarzenia/%e2%98%85-gift-party-%e2%98%85/
SUMMARY:★ Gift Party ★
DESCRIPTION:Uwaga Aniołki! :) ?\nW najbliższy Piątek: Gift Party ❗\nZg
 arnij trend tego lata: Elektryczną Hulajnogę! ?⚡\n____________________
 _________\nWstęp do godziny 23:00 #free // 18+\n_________________________
 ____\nImprezę nakręcają rezydenci:\nDJ X-Meen | DJ Dream | Jony | Lj Ka
 cper\n_____________________________\nRezerwacje: http://bit.ly/2w3r4FG.
ATTACH;FMTTYPE=image/jpeg:https://night4u.pl/wp-content/uploads/2019/08/57
 974_image_67832570_2300853576628957_3501798471218757632_o.jpg
CATEGORIES:lubuskie
LOCATION:Heaven Zielona Góra\, ul. Generała Józefa Sowińskiego 38 C\, Z
 ielona Góra\, 65-067\, Poland
GEO:51.934371;15.509862
X-APPLE-STRUCTURED-LOCATION;VALUE=URI;X-ADDRESS=ul. Generała Józefa Sowi
 ńskiego 38 C\, Zielona Góra\, 65-067\, Poland;X-APPLE-RADIUS=100;X-TITLE
 =Heaven Zielona Góra:geo:51.934371,15.509862
END:VEVENT
BEGIN:VTIMEZONE
TZID:Europe/Warsaw
X-LIC-LOCATION:Europe/Warsaw
BEGIN:DAYLIGHT
DTSTART:20190331T030000
TZOFFSETFROM:+0100
TZOFFSETTO:+0200
TZNAME:CEST
END:DAYLIGHT
END:VTIMEZONE
END:VCALENDAR