BEGIN:VCALENDAR
VERSION:2.0
PRODID:-//wp-events-plugin.com//7.2.3.1//EN
TZID:Europe/Warsaw
X-WR-TIMEZONE:Europe/Warsaw
BEGIN:VEVENT
UID:34173@night4u.pl
DTSTART;TZID=Europe/Warsaw:20191031T200000
DTEND;TZID=Europe/Warsaw:20191101T050000
DTSTAMP:20191030T094830Z
URL:https://night4u.pl/wydarzenia/%e2%98%85-halloween-party-czwartek-31-pa
 zdziernika-2019-%e2%98%85/
SUMMARY:★ Halloween Party- czwartek 31 października 2019 ★
DESCRIPTION:HALLOWEEN PARTY - Przez całą noc zabawa przy największych pr
 zebojach DiscoPolo. \n\nWSZYSTKIE OSOBY W PRZEBRANIACH WCHODZĄ ZA FREE!\n
 \nNiesamowity klimat i wystrój!!\n\nStart: 20.00\nWstęp: 18 +\nPanie: do
  22:00 Free\, po 22:00 10 zł\nPanowie  10 zł\n\nNA BARZE PRZEZ CAŁĄ NO
 C SUPER PROMOCJE!\n\nPiwo 0\,5 - 8 zł\nButelka 0\,5 - 70 zł\nShot 40 ml 
 (czysta i smakowe) - 7 zł\n\nREZERWACJA LOŻY:\nhttp://hushlive.pl/rezerw
 acje
ATTACH;FMTTYPE=image/jpeg:https://night4u.pl/wp-content/uploads/2019/10/87
 568_image_73322488_2525675814312555_2335369109782396928_o.jpg
CATEGORIES:małopolskie
LOCATION:HUSH LIVE\, Sławkowska 6\, Kraków\, 31-014\, Poland
GEO:50.063145;19.937096
X-APPLE-STRUCTURED-LOCATION;VALUE=URI;X-ADDRESS=Sławkowska 6\, Kraków\, 3
 1-014\, Poland;X-APPLE-RADIUS=100;X-TITLE=HUSH LIVE:geo:50.063145,19.93709
 6
END:VEVENT
BEGIN:VTIMEZONE
TZID:Europe/Warsaw
X-LIC-LOCATION:Europe/Warsaw
BEGIN:STANDARD
DTSTART:20191027T020000
TZOFFSETFROM:+0200
TZOFFSETTO:+0100
TZNAME:CET
END:STANDARD
END:VTIMEZONE
END:VCALENDAR