BEGIN:VCALENDAR
VERSION:2.0
PRODID:-//wp-events-plugin.com//7.2.3.1//EN
TZID:Europe/Warsaw
X-WR-TIMEZONE:Europe/Warsaw
BEGIN:VEVENT
UID:39330@night4u.pl
DTSTART;TZID=Europe/Warsaw:20191225T210000
DTEND;TZID=Europe/Warsaw:20191226T050000
DTSTAMP:20191225T230050Z
URL:https://night4u.pl/wydarzenia/%e2%98%85-hauserka-i-dj-adamus-f-one-bro
 ther/
SUMMARY:★ Hauserka I Dj Adamus f. One Brother
DESCRIPTION:Nastała nowa świecka tradycja\, jak to mawiał klasyk. Co rok
 u\, gdy słońce góruje nad Zwrotnikiem Koziorożca\, a dzień jest najkr
 ótszy w roku przyjeżdża do Sofy nasz człowiek\, pochodzący z Opola DJ
  ADAMUS. \nAdama Jaworskiego nie musimy nikomu specjalnie przedstawiać\, 
 w końcu to marka sama w sobie. Potrzebujecie jeszcze większej ilości ar
 gumentów\, aby spędzić z nami święta? Do zobaczenia!\n\nSTAGE:\n★ D
 J ADAMUS f. ONE BROTHER\, DJ\nSelekcja / CASUAL i SMART CASUAL\n\nWstęp\n
 ♀ do 22 FREE / do 24 - 15 PLN / po 24 - 20 PLN\n♂ do 24 - 20 PLN / po 
 24 - 25 PLN\nKarty VIP &amp\; Karty Clubowe / Wstęp DARMOWY\n\nRezerwacje
  Loży\nwww.emenago.com/i/sofamusicclub
ATTACH;FMTTYPE=image/jpeg:https://night4u.pl/wp-content/uploads/2019/12/11
 5310_image_78804636_2550609395018514_1138048110170210304_o.jpg
CATEGORIES:opolskie
LOCATION:Sofa Music Club\, Oleska 102\, Opole\, 45-231\, Poland
GEO:50.681382;17.941253
X-APPLE-STRUCTURED-LOCATION;VALUE=URI;X-ADDRESS=Oleska 102\, Opole\, 45-231
 \, Poland;X-APPLE-RADIUS=100;X-TITLE=Sofa Music Club:geo:50.681382,17.9412
 53
END:VEVENT
BEGIN:VTIMEZONE
TZID:Europe/Warsaw
X-LIC-LOCATION:Europe/Warsaw
BEGIN:STANDARD
DTSTART:20191027T020000
TZOFFSETFROM:+0200
TZOFFSETTO:+0100
TZNAME:CET
END:STANDARD
END:VTIMEZONE
END:VCALENDAR