BEGIN:VCALENDAR
VERSION:2.0
PRODID:-//wp-events-plugin.com//7.2.3.1//EN
TZID:Europe/Warsaw
X-WR-TIMEZONE:Europe/Warsaw
BEGIN:VEVENT
UID:32478@night4u.pl
DTSTART;TZID=Europe/Warsaw:20191025T210000
DTEND;TZID=Europe/Warsaw:20191026T040000
DTSTAMP:20191017T014732Z
URL:https://night4u.pl/wydarzenia/%e2%98%85-huherko-%e2%98%85-piatek-25-10
 -%e2%98%85-club-kotwica-szymbark/
SUMMARY:★ Huherko ★ Piątek 25.10 ★ Club Kotwica Szymbark
DESCRIPTION:W piątek 25 października zapraszamy do naszego klubu na mega 
 bombową imprezę! Tej nocy za sterami Kotwicy stanie Huherko\, który na 
 codzień pełni rolę rezydenta klubu Magnes Wtórek 🔥 Jego ostatni rem
 ix C'est La Revolution w collaboracji z Bueno Clinic nasi klubowicze z pew
 nością bardzo dobrze znają 😁\n\n Pamiętajcie że w piątki w Kotwic
 y czeka na Was promocja na barze 🔥 PIWO LANE = 5ZŁ & SHOT WÓDKI = 5Z
 Ł 🔥 Szykujcie się na mega pozytywnie zakręconą imprezę!\n\nDo zoba
 czenia załogo ⚓\n▬▬▬▬▬▬▬▬▬\n#INFO\nREZERWACJA LOŻY 
 📱 608 638 424\n🎫 Wstęp: \ndo 22:30 - 10zł\npo 22:30 - 15zł\n\nSzy
 mbark\, ul. Sportowa 23\n▬▬▬▬▬▬▬▬▬\nWBIJAJ DO NAS NA INS
 TA ▶ www.instagram.com/clubkotwica
ATTACH;FMTTYPE=image/jpeg:https://night4u.pl/wp-content/uploads/2019/10/78
 088_image_72468401_3302310569808894_4561182279677771776_o.jpg
CATEGORIES:pomorskie
LOCATION:Disco Club Kotwica\, Sportowa 23\, Szymbark\, 83-315\, Poland
GEO:54.229659;18.108067
X-APPLE-STRUCTURED-LOCATION;VALUE=URI;X-ADDRESS=Sportowa 23\, Szymbark\, 83
 -315\, Poland;X-APPLE-RADIUS=100;X-TITLE=Disco Club Kotwica:geo:54.229659,
 18.108067
END:VEVENT
BEGIN:VTIMEZONE
TZID:Europe/Warsaw
X-LIC-LOCATION:Europe/Warsaw
BEGIN:DAYLIGHT
DTSTART:20190331T030000
TZOFFSETFROM:+0100
TZOFFSETTO:+0200
TZNAME:CEST
END:DAYLIGHT
END:VTIMEZONE
END:VCALENDAR