BEGIN:VCALENDAR
VERSION:2.0
PRODID:-//wp-events-plugin.com//7.2.3.1//EN
TZID:Europe/Warsaw
X-WR-TIMEZONE:Europe/Warsaw
BEGIN:VEVENT
UID:41023@night4u.pl
DTSTART;TZID=Europe/Warsaw:20191228T210000
DTEND;TZID=Europe/Warsaw:20191229T040000
DTSTAMP:20191228T132411Z
URL:https://night4u.pl/wydarzenia/%e2%98%85-i-got-u-%e2%98%85-before-sylwe
 stra-%e2%98%85-sobota-28-12-%e2%98%85-kotwica-szymbark/
SUMMARY:★ I GOT U ★ Before Sylwestra ★ Sobota 28.12 ★ Kotwica Szymb
 ark
DESCRIPTION:SYLWESTROWY BEFORE w Kotwicy! 🥂🥂🥂\n\n28 grudnia zapras
 zamy na before sylwestra do Kotwicy w Szymbarku 🥂 Tej nocy gwiazdą wie
 czoru będzie I.GOT.U\, który klubowiczom naszego klubu jest bardzo dobrz
 e znany! Z pewnością znacie takie numery jak "SICK"\, "1995"\, "JACK MUS
 H" oraz jego najnowszy utwór "VIDEO"\, który grany już jest na parkieta
 ch klubowych całej Polski 🔥🔥🔥 \n\nDo zobaczenia! 🙏✊ \n\n#IN
 FO\nREZERWACJA LOŻY 📱 608 638 424\n🎫 Wstęp: 20zł\n\nSzymbark\, ul
 . Sportowa 23\n▬▬▬▬▬▬▬▬▬\nWBIJAJ DO NAS NA INSTA ▶ www
 .instagram.com/clubkotwica
ATTACH;FMTTYPE=image/jpeg:https://night4u.pl/wp-content/uploads/2019/12/12
 7287_image_80678716_3513705358669413_5643105732908810240_o.jpg
CATEGORIES:pomorskie
LOCATION:Disco Club Kotwica\, Sportowa 23\, Szymbark\, 83-315\, Poland
GEO:54.229659;18.108067
X-APPLE-STRUCTURED-LOCATION;VALUE=URI;X-ADDRESS=Sportowa 23\, Szymbark\, 83
 -315\, Poland;X-APPLE-RADIUS=100;X-TITLE=Disco Club Kotwica:geo:54.229659,
 18.108067
END:VEVENT
BEGIN:VTIMEZONE
TZID:Europe/Warsaw
X-LIC-LOCATION:Europe/Warsaw
BEGIN:STANDARD
DTSTART:20191027T020000
TZOFFSETFROM:+0200
TZOFFSETTO:+0100
TZNAME:CET
END:STANDARD
END:VTIMEZONE
END:VCALENDAR