BEGIN:VCALENDAR
VERSION:2.0
PRODID:-//wp-events-plugin.com//7.2.3.1//EN
TZID:Europe/Warsaw
X-WR-TIMEZONE:Europe/Warsaw
BEGIN:VEVENT
UID:50125@night4u.pl
DTSTART;TZID=Europe/Warsaw:20200313T210000
DTEND;TZID=Europe/Warsaw:20200314T040000
DTSTAMP:20200312T000354Z
URL:https://night4u.pl/wydarzenia/%e2%98%85-i-love-vixa-%e2%98%85-mega-pac
 k-%e2%98%85/
SUMMARY:★ I Love Vixa ★ Mega Pack! ★
DESCRIPTION:Kolejna edycja imprezy \,która pojawia się cyklicznie w Face 
 Clubie!\nTym razem ponownie widzimy się w mega składzie!\n🎧 Dj Killer
 \n🎧 DJ Yourant\n🎧 DJ MALOS\n🎧 NᴏʀʙsᴏN\n🎧 DJ Lacros\n🎧
  Dj Adys\n🎧 Dj Cezar\n\n👉 Let's get ready to rumble 😎😎😎\n\n
 ❎Rezerwacja stolików online - http://tinyurl.com/FaceClub\n⬛ ZAPRASZA
 MY
ATTACH;FMTTYPE=image/jpeg:https://night4u.pl/wp-content/uploads/2020/03/17
 5129_image_89598017_2394740957294074_2206763641317883904_n.jpg
CATEGORIES:warmińsko-mazurskie
LOCATION:FACE Club ( Olsztyn )\, Orłowicza 6\, Olsztyn\, 10-903\, Poland
GEO:53.754659;20.492838
X-APPLE-STRUCTURED-LOCATION;VALUE=URI;X-ADDRESS=Orłowicza 6\, Olsztyn\, 10
 -903\, Poland;X-APPLE-RADIUS=100;X-TITLE=FACE Club ( Olsztyn ):geo:53.7546
 59,20.492838
END:VEVENT
BEGIN:VTIMEZONE
TZID:Europe/Warsaw
X-LIC-LOCATION:Europe/Warsaw
BEGIN:STANDARD
DTSTART:20191027T020000
TZOFFSETFROM:+0200
TZOFFSETTO:+0100
TZNAME:CET
END:STANDARD
END:VTIMEZONE
END:VCALENDAR