BEGIN:VCALENDAR
VERSION:2.0
PRODID:-//wp-events-plugin.com//7.2.3.1//EN
TZID:Europe/Warsaw
X-WR-TIMEZONE:Europe/Warsaw
BEGIN:VEVENT
UID:51790@night4u.pl
DTSTART;TZID=Europe/Warsaw:20241220T220000
DTEND;TZID=Europe/Warsaw:20241221T010000
DTSTAMP:20241218T195707Z
URL:https://night4u.pl/wydarzenia/%e2%98%85-iotra-runda-%e2%98%85-dancer-j
 onal-%e2%98%85-viernes-20-12-%e2%98%85/
SUMMARY:★ iOtra runda ★ Dancer JONAL ★ Viernes  20.12 ★
DESCRIPTION:★ iOtra runda ★ Dancer JONAL ★ Viernes ★\nTotalne waria
 ctwo w piątki !!! ❤\nZadbamy o moc atrakcji....\nZapamiętajcie: 00:00\
 , 01:00\, 02:00 - w te 3 godziny w El Cubano będzie działo się coś now
 ego!!\nNie przegap tych imprez\, będzie OGIEŃ !! 🔥❤\nTylko u nas go
 rące kubańskie noce w każdy weekend 🔥\nKaraibskie klimaty\, latynosk
 a muzyka\, rum\, salsa\, egzotyczni tancerze...\n★ ★ ★\n-&gt\; Data:
  Viernes !\n-&gt\; Start: 22:00\, bawimy się do rana !!\n★ ★ ★\nDan
 cer:\n🔶 Jonal 🕺🇻🇪🍹\n★ ★ ★\nDRESS CODE: cuban vibe\nRE
 ZERWACJE: tel. +48 508 - 508 - 488\nEL CUBANO | ul. Traugutta 3 | Łódź\
 n★ ★ ★
ATTACH;FMTTYPE=image/jpeg:https://night4u.pl/wp-content/uploads/2024/12/
 -iOtra-runda-★-Dancer-JONAL-★-Viernes-20.12-★.jpg
CATEGORIES:łódzkie
LOCATION:El Cubano\, El Cubano\, 
X-APPLE-STRUCTURED-LOCATION;VALUE=URI;X-ADDRESS=El Cubano\, ;X-APPLE-RADIUS
 =100;X-TITLE=El Cubano:geo:0,0
END:VEVENT
BEGIN:VTIMEZONE
TZID:Europe/Warsaw
X-LIC-LOCATION:Europe/Warsaw
BEGIN:STANDARD
DTSTART:20241027T020000
TZOFFSETFROM:+0200
TZOFFSETTO:+0100
TZNAME:CET
END:STANDARD
END:VTIMEZONE
END:VCALENDAR