BEGIN:VCALENDAR
VERSION:2.0
PRODID:-//wp-events-plugin.com//7.2.3.1//EN
TZID:Europe/Warsaw
X-WR-TIMEZONE:Europe/Warsaw
BEGIN:VEVENT
UID:31387@night4u.pl
DTSTART;TZID=Europe/Warsaw:20191012T210000
DTEND;TZID=Europe/Warsaw:20191013T030000
DTSTAMP:20191012T010355Z
URL:https://night4u.pl/wydarzenia/%e2%98%85-jo-ma-ha-jo-ma-so-%e2%98%85-dj
 -k-j-%e2%98%85-dj-feel-night/
SUMMARY:★ Jo Ma Ha\, Jo Ma So ★ DJ K.J. ★ DJ Feel Night
DESCRIPTION:Przyjdź i sprawdź najgorętszy 😎 weekendowy klimat w centr
 um miasta ❗ Już w piątek i w sobotę (11-12 października) zapraszamy 
 na imprezę ★ Jo Ma Ha\, Jo Ma So ★ impreza tytułowana słowami piose
 nki "You're My Heart\, You're My Soul" legendarnej grupy Modern Talking. W
  Club Wyszynk nie może Cię zabraknąć ❗ Za naszą konsolą staną Dj 
 K.J. oraz Dj Feel Night ❗ Gwarancja dobrej imprezy\, samych muzycznych h
 itów i niezwykłej atmosfery\, a tą atmosferę podgrzewamy rabatami - de
 ska dowolnych\, 10 shot'ów z karty w cenie 40 zł ❗ Koniecznie zabierzc
 ie ze sobą znajomych i bawcie się razem z nami do rana ❗\n\n☎ Rezerw
 acje loży pod numerem tel.: 731 846 556 lub 882 478 141 (również w form
 ie SMS) ❗ Rezerwacje przyjmowane są 7 dni w tygodniu od godziny 9:00 do
  20:00 ☎\n\nWstęp do 22:00 - 5\,- PLN\, po 22:00 - "dychę". Nasza impr
 ezowa kuchnia czynna jest do północy. Od 23:00 wielkie grillowanie 🥩
 🥓🍖 w Grill Budka - nocne jedzenie // 11 - 12 października\, aż do 
 3 rano ❗\n\n🎉 Chcesz zorganizować swoje urodziny\, imieniny\, wiecz
 ór panieński\, czy kawalerski - ten dzień jest dla Ciebie. Zgłoś się
  do Nas (tel. 731 846 556 lub 882 478 141\, napisz: bar@wyszynk.com) ❗\n
 \n🍽 Jemy Na Imprezie ❗\nOd godziny 21:00 do północy serwujemy pizz
 ę 30cm 🍕 Margherita\, Capriciosa\, Salama\, Pollo\, Pepperoni\, Jalape
 ño\, Pesca oraz 🍽 Kapsalon i Frytki 🍟 Od godziny 23:00 do 03:00 zap
 raszamy do Grill Budka - nocne jedzenie.\n\n✘ 11\, 12 października (pi
 ątek\, sobota) ✘\n☛ wiek: 18+\n☛ wjazd: 5\,- PLN\, po godz. 22:00: 
 10\,- PLN (Panie i Panowie)\n☛ masz dziś urodziny? wchodzisz za FREE\n
 ☛ obowiązuje: door selection\n☛ zaczynamy o 21:00\, gramy do 3:00\n
 ☛ za konsoletą: piątek - DJ K.J.\, sobota - DJ Feel Night\n☛ VIP ROO
 M: zarezerwuj vip'owską salę do 20 osób w cenie 100\,- PLN\n☛ lokal k
 limatyzowany\n☛ ogrzewany ogródek\n☛ w całym klubie dostępne darmow
 e Wi-Fi\n☛ nie odpowiadamy za rzeczy pozostawione na terenie klubu\n☛ 
 obiekt monitorowany\n☛ regulamin klubu: www.wyszynk.com/regulamin-klubu/
 \n\nPrzypominamy\, że od 1 października 2019 Pub &amp\; Club Wyszynk otw
 arty będzie:\n\n● PIĄTEK: 13:00 - 03:00\,\n● SOBOTA: 12:00 - 03:00\,
 \n● NIEDZIELA: 12:00 - 20:00\,\n● PONIEDZIAŁEK - CZWARTEK: NIECZYNNE.
 \n\nClub Wyszynk zastrzega sobie prawo do selekcji gości i może odmówi
 ć wstępu bez podania przyczyny. Wstęp tylko dla osób pełnoletnich.
ATTACH;FMTTYPE=image/jpeg:https://night4u.pl/wp-content/uploads/2019/10/73
 201_image_72315924_425232074796867_715082011487764480_o.jpg
CATEGORIES:podkarpackie
LOCATION:Pub &amp\; Club Wyszynk\, Okrzei 1\, Krosno\, 38-400\, Poland
GEO:49.696929;21.761701
X-APPLE-STRUCTURED-LOCATION;VALUE=URI;X-ADDRESS=Okrzei 1\, Krosno\, 38-400\
 , Poland;X-APPLE-RADIUS=100;X-TITLE=Pub & Club Wyszynk:geo:49.696929,21.76
 1701
END:VEVENT
BEGIN:VTIMEZONE
TZID:Europe/Warsaw
X-LIC-LOCATION:Europe/Warsaw
BEGIN:DAYLIGHT
DTSTART:20190331T030000
TZOFFSETFROM:+0100
TZOFFSETTO:+0200
TZNAME:CEST
END:DAYLIGHT
END:VTIMEZONE
END:VCALENDAR