BEGIN:VCALENDAR
VERSION:2.0
PRODID:-//wp-events-plugin.com//7.2.3.1//EN
TZID:Europe/Warsaw
X-WR-TIMEZONE:Europe/Warsaw
BEGIN:VEVENT
UID:46460@night4u.pl
DTSTART;TZID=Europe/Warsaw:20200207T210000
DTEND;TZID=Europe/Warsaw:20200208T030000
DTSTAMP:20200208T010356Z
URL:https://night4u.pl/wydarzenia/%e2%98%85-kamikaze-ladies-night-%e2%98%8
 5-weekend-%e2%98%85-club-wyszynk-%e2%98%85-2/
SUMMARY:★ Kamikaze &amp\; Ladies Night ★ Weekend ★ Club Wyszynk ★
DESCRIPTION:Zapraszamy Was na najlepszy weekend w mieście. W piątek i w s
 obotę (7\, 8 lutego) będziecie bawić się podczas " Kamikaze &amp\; Lad
 ies Night" w Pub &amp\; Club Wyszynk. Do 22:00 Drogie Panie wchodzicie do 
 klubu za 5 ziko ❗ Dlatego zabierzcie swoje przyjaciółki i wpadnijcie n
 a drinka\, albo dwa i oczywiście potańczyć ❗ Nasi rezydenci zapewnią
  Wam najbardziej znane i lubiane kawałki. Za konsoletą w piątek 🎧 Dj
  Barti\, a w sobotę 🎧 Dj K.J.\n\nW ten weekend 8 shotów Kamikaze za j
 edynie 35 ziko. Nasza imprezowa 🍕 kuchnia czynna jest do północy\, po
 lecamy najlepsza pizzę w mieście ❗ Brzmi zachęcająco? Rezerwujcie cz
 as\, już teraz ❗ Do zobaczenia ❗ \n\nWstęp: 10 zł\, Panie do 22:00 
 - 5 zł. Masz urodziny w dniu imprezy? Wejdziesz za free ❗\n\n☎ Rezerw
 acje loży pod numerem tel.: 731 846 556 lub 882 478 141 (również w form
 ie SMS) ❗ Wybieracie się dużą ekipą\, chcecie salę wyłącznie dla 
 siebie? Zarezerwuj vip'owską salę nawet do 20 osób w cenie 100 zł. ❗
  ☎\n\n🎉 Chcesz zorganizować urodziny\, imieniny\, a może wieczór p
 anieński lub kawalerski? Zgłoś się do Nas ❗\n\n❌❌❌\n\nPub &amp
 \; Club Wyszynk zastrzega sobie prawo do selekcji gości i może odmówić
  wstępu bez podania przyczyny. Wstęp tylko dla osób pełnoletnich. Obie
 kt monitorowany. Nie odpowiadamy za rzeczy pozostawione na terenie klubu. 
 Wchodząc\, akceptujesz regulamin www.wyszynk.com/regulamin-klubu/
ATTACH;FMTTYPE=image/jpeg:https://night4u.pl/wp-content/uploads/2020/02/15
 2401_image_84016025_509083913078349_2301436132249829376_o.jpg
CATEGORIES:podkarpackie
LOCATION:Pub &amp\; Club Wyszynk\, Okrzei 1\, Krosno\, 38-400\, Poland
GEO:49.696929;21.761701
X-APPLE-STRUCTURED-LOCATION;VALUE=URI;X-ADDRESS=Okrzei 1\, Krosno\, 38-400\
 , Poland;X-APPLE-RADIUS=100;X-TITLE=Pub & Club Wyszynk:geo:49.696929,21.76
 1701
END:VEVENT
BEGIN:VTIMEZONE
TZID:Europe/Warsaw
X-LIC-LOCATION:Europe/Warsaw
BEGIN:STANDARD
DTSTART:20191027T020000
TZOFFSETFROM:+0200
TZOFFSETTO:+0100
TZNAME:CET
END:STANDARD
END:VTIMEZONE
END:VCALENDAR