BEGIN:VCALENDAR
VERSION:2.0
PRODID:-//wp-events-plugin.com//7.2.3.1//EN
TZID:Europe/Warsaw
X-WR-TIMEZONE:Europe/Warsaw
BEGIN:VEVENT
UID:4951@night4u.pl
DTSTART;TZID=Europe/Warsaw:20190216T210000
DTEND;TZID=Europe/Warsaw:20190217T050000
DTSTAMP:20190124T160317Z
URL:https://night4u.pl/wydarzenia/%e2%98%85-klub-fm-neevald-f-one-brother/
SUMMARY:★ Klub FM / neeVald f. One Brother
DESCRIPTION:STAGE:\n★ neeVald f. ONE BROTHER\, DJ ★\n+ 21:00 :: Selekcj
 a :: Dress Code\n\n► Wstęp \nPanie/Ladies :: do 22 FREE / po 22 -> 10 P
 LN\nPanowie/Gentleman :: do 23 -> 10 PLN / po 23 -> 15 PLN\n$ Karty VIP & 
 Karty Clubowe $ -> Wstęp Darmowy\n\n► Rezerwacje Loży\n+ www.emenago.c
 om/i/sofamusicclub\n+ 603 224 000
ATTACH;FMTTYPE=image/jpeg:https://night4u.pl/wp-content/uploads/2019/01/15
 735_image_50699231_2002909796455146_3562711226418987008_o.jpg
CATEGORIES:opolskie
LOCATION:Sofa Music Club\, Oleska 102\, Opole\, 45-231\, Poland
GEO:50.681382;17.941253
X-APPLE-STRUCTURED-LOCATION;VALUE=URI;X-ADDRESS=Oleska 102\, Opole\, 45-231
 \, Poland;X-APPLE-RADIUS=100;X-TITLE=Sofa Music Club:geo:50.681382,17.9412
 53
END:VEVENT
BEGIN:VTIMEZONE
TZID:Europe/Warsaw
X-LIC-LOCATION:Europe/Warsaw
BEGIN:STANDARD
DTSTART:20181028T020000
TZOFFSETFROM:+0200
TZOFFSETTO:+0100
TZNAME:CET
END:STANDARD
END:VTIMEZONE
END:VCALENDAR