BEGIN:VCALENDAR
VERSION:2.0
PRODID:-//wp-events-plugin.com//7.2.3.1//EN
TZID:Europe/Warsaw
X-WR-TIMEZONE:Europe/Warsaw
BEGIN:VEVENT
UID:24680@night4u.pl
DTSTART;TZID=Europe/Warsaw:20190825T210000
DTEND;TZID=Europe/Warsaw:20190826T050000
DTSTAMP:20190815T220840Z
URL:https://night4u.pl/wydarzenia/%e2%98%85-licealne-zakonczenie-wakacji-n
 iedziela-25-sierpnia-2019/
SUMMARY:★ Licealne Zakończenie Wakacji - niedziela 25 sierpnia 2019
DESCRIPTION:▼NOWY HIT 2019▼\nhttps://youtu.be/UsxhR15W1jw\n\nTo było n
 aprawdę gorące lato i choć za moment znów trzeba będzie pójść do s
 zkoły to najpierw pożegnamy wakacje i to konkretnie!\nZapraszamy Was w n
 iedzielę 25 sierpnia do Klub Spiż Katowice na największą licealną imp
 rezę w kraju!\n4 sale\, 5 barów i ogromny ogródek letni z grillem do wa
 szej dyspozycji\, a poza tym fotobudka dostępna dla wszystkich za darmo i
  mnóstwo fantów do rozdania!\n\nWYJĄTKOWO WSTĘP 16+\n(Pamiętaj by zab
 rać\, przynajmniej jeden z wymienionych dokumentów celem potwierdzenia d
 aty urodzenia. Respektujemy tylko: legitymację szkolną\, dowód osobisty
 \, prawo jazdy\, paszport) \n\nWSZYSCY DO 22.00 WCHODZĄ ZA DARMO\n\nFOTOB
 UDKA\n(Dostępna dla wszystkich za darmo)\n\nW TYM DNIU NIE OBOWIĄZUJĄ Z
 APROSZENIA WYGRANE W KONKURSACH\, NA PORTALU PARTYLOVER ANI PROMOCJA URODZ
 INOWA NA REZERWACJE LOŻY\n\nStart: 21.00\nWstęp: 16+\nPanie (po 22.00): 
 15 zł\nPanowie (po 22.00): 15 zł\n\nZagrają:\nSala Club: Axel P (EDM / 
 Big Room / Melbourne / Commercial)\nSala Rnb: Matthew Bronze (Hip Hop / Da
 ncehall / Soul / RnB / Funky)\nSala Dance: Dj Martin (Dance / Disco / Olds
 chool / Crazy Hits / Disco Polo)\nSala Extra: KARAOKE\n\nLjs: Wilu | Lesiu
  | Papiok\n\nDO KLUBU NIE WCHODZIMY:\n- w odzieży sportowej\n- w czapkach
  i bluzach z kapturem\n- z emblematami drużyn sportowych\n- w odzieży wo
 jskowej (w tym bojówki\, moro itp.)\n- w klapkach\, japonkach itp\n\nREZE
 RWACJA LOŻY:\nhttp://katowice.spiz.pl/rezerwacja.htm\n\nWięcej na: www.k
 atowice.spiz.pl\n\nDO ZOBACZENIA W KLUBIE
ATTACH;FMTTYPE=image/jpeg:https://night4u.pl/wp-content/uploads/2019/08/58
 031_image_68687835_2342706219108699_4693606961910906880_o.jpg
CATEGORIES:śląskie
LOCATION:Klub Spiż Katowice\, Opolska 22\, Katowice\, 40-084\, Poland
GEO:50.262358;19.011315
X-APPLE-STRUCTURED-LOCATION;VALUE=URI;X-ADDRESS=Opolska 22\, Katowice\, 40-
 084\, Poland;X-APPLE-RADIUS=100;X-TITLE=Klub Spiż Katowice:geo:50.262358,
 19.011315
END:VEVENT
BEGIN:VTIMEZONE
TZID:Europe/Warsaw
X-LIC-LOCATION:Europe/Warsaw
BEGIN:DAYLIGHT
DTSTART:20190331T030000
TZOFFSETFROM:+0100
TZOFFSETTO:+0200
TZNAME:CEST
END:DAYLIGHT
END:VTIMEZONE
END:VCALENDAR