BEGIN:VCALENDAR
VERSION:2.0
PRODID:-//wp-events-plugin.com//7.2.3.1//EN
TZID:Europe/Warsaw
X-WR-TIMEZONE:Europe/Warsaw
BEGIN:VEVENT
UID:18192@night4u.pl
DTSTART;TZID=Europe/Warsaw:20190608T210000
DTEND;TZID=Europe/Warsaw:20190609T050000
DTSTAMP:20190603T203745Z
URL:https://night4u.pl/wydarzenia/%e2%98%85-m-power-koncert-live-l-dj-insa
 ne-terror-boyz-%e2%98%85/
SUMMARY:★ M-POWER - koncert live! l DJ Insane & Terror Boyz ★
DESCRIPTION:Czas na wielki powrót imprezy pod nazwą Terror Mission\, czyl
 i napad na klub! ?\n\nNa sali klubowej za sterami:\n\n? Dj Insane\n? TERRO
 R BOYZ\n\nNa sali dance MEGA koncert na żywo formacji   M-POWER ? jedno j
 est pewne - BĘDZIE ?
ATTACH;FMTTYPE=image/jpeg:https://night4u.pl/wp-content/uploads/2019/06/43
 999_image_61737120_1179462492178194_3997917230275756032_o.jpg
CATEGORIES:wielkopolskie
END:VEVENT
BEGIN:VTIMEZONE
TZID:Europe/Warsaw
X-LIC-LOCATION:Europe/Warsaw
BEGIN:DAYLIGHT
DTSTART:20190331T030000
TZOFFSETFROM:+0100
TZOFFSETTO:+0200
TZNAME:CEST
END:DAYLIGHT
END:VTIMEZONE
END:VCALENDAR